BEGIN:VCALENDAR
VERSION:2.0
PRODID:-//Fleetway Fun - ECPv6.15.17.1//NONSGML v1.0//EN
CALSCALE:GREGORIAN
METHOD:PUBLISH
X-WR-CALNAME:Fleetway Fun
X-ORIGINAL-URL:https://fleetwayfun.com
X-WR-CALDESC:Events for Fleetway Fun
REFRESH-INTERVAL;VALUE=DURATION:PT1H
X-Robots-Tag:noindex
X-PUBLISHED-TTL:PT1H
BEGIN:VTIMEZONE
TZID:America/Toronto
BEGIN:DAYLIGHT
TZOFFSETFROM:-0500
TZOFFSETTO:-0400
TZNAME:EDT
DTSTART:20250309T070000
END:DAYLIGHT
BEGIN:STANDARD
TZOFFSETFROM:-0400
TZOFFSETTO:-0500
TZNAME:EST
DTSTART:20251102T060000
END:STANDARD
BEGIN:DAYLIGHT
TZOFFSETFROM:-0500
TZOFFSETTO:-0400
TZNAME:EDT
DTSTART:20260308T070000
END:DAYLIGHT
BEGIN:STANDARD
TZOFFSETFROM:-0400
TZOFFSETTO:-0500
TZNAME:EST
DTSTART:20261101T060000
END:STANDARD
BEGIN:DAYLIGHT
TZOFFSETFROM:-0500
TZOFFSETTO:-0400
TZNAME:EDT
DTSTART:20270314T070000
END:DAYLIGHT
BEGIN:STANDARD
TZOFFSETFROM:-0400
TZOFFSETTO:-0500
TZNAME:EST
DTSTART:20271107T060000
END:STANDARD
END:VTIMEZONE
BEGIN:VEVENT
DTSTART;TZID=America/Toronto:20260803T093000
DTEND;TZID=America/Toronto:20260803T230000
DTSTAMP:20260423T175418
CREATED:20260218T204110Z
LAST-MODIFIED:20260218T210411Z
UID:3803-1785749400-1785798000@fleetwayfun.com
SUMMARY:OPEN - NO Exclusive Available
DESCRIPTION:
URL:https://fleetwayfun.com/event/kids-play-centre-open-from-500-700pm-no-exclusive-booking-3/
END:VEVENT
BEGIN:VEVENT
DTSTART;TZID=America/Toronto:20260806T170000
DTEND;TZID=America/Toronto:20260806T190000
DTSTAMP:20260423T175418
CREATED:20260407T151102Z
LAST-MODIFIED:20260407T151102Z
UID:3901-1786035600-1786042800@fleetwayfun.com
SUMMARY:Kids Play Centre CLOSED from 5:00 – 7:00pm for Exclusive Booking
DESCRIPTION:
URL:https://fleetwayfun.com/event/kids-play-centre-closed-from-500-700pm-for-exclusive-booking-253/
END:VEVENT
BEGIN:VEVENT
DTSTART;TZID=America/Toronto:20260810T170000
DTEND;TZID=America/Toronto:20260810T190000
DTSTAMP:20260423T175418
CREATED:20260331T191827Z
LAST-MODIFIED:20260331T191827Z
UID:3897-1786381200-1786388400@fleetwayfun.com
SUMMARY:Kids Play Centre CLOSED from 5:00 – 7:00pm for Exclusive Booking
DESCRIPTION:
URL:https://fleetwayfun.com/event/kids-play-centre-closed-from-500-700pm-for-exclusive-booking-251/
END:VEVENT
BEGIN:VEVENT
DTSTART;TZID=America/Toronto:20260819T170000
DTEND;TZID=America/Toronto:20260819T190000
DTSTAMP:20260423T175418
CREATED:20260310T144034Z
LAST-MODIFIED:20260310T144034Z
UID:3857-1787158800-1787166000@fleetwayfun.com
SUMMARY:Kids Play Centre CLOSED from 5:00 – 7:00pm for Exclusive Booking
DESCRIPTION:
URL:https://fleetwayfun.com/event/kids-play-centre-closed-from-500-700pm-for-exclusive-booking-218/
END:VEVENT
END:VCALENDAR