BEGIN:VCALENDAR
VERSION:2.0
PRODID:-//Fleetway Fun - ECPv6.15.17.1//NONSGML v1.0//EN
CALSCALE:GREGORIAN
METHOD:PUBLISH
X-ORIGINAL-URL:https://fleetwayfun.com
X-WR-CALDESC:Events for Fleetway Fun
REFRESH-INTERVAL;VALUE=DURATION:PT1H
X-Robots-Tag:noindex
X-PUBLISHED-TTL:PT1H
BEGIN:VTIMEZONE
TZID:America/Toronto
BEGIN:DAYLIGHT
TZOFFSETFROM:-0500
TZOFFSETTO:-0400
TZNAME:EDT
DTSTART:20250309T070000
END:DAYLIGHT
BEGIN:STANDARD
TZOFFSETFROM:-0400
TZOFFSETTO:-0500
TZNAME:EST
DTSTART:20251102T060000
END:STANDARD
BEGIN:DAYLIGHT
TZOFFSETFROM:-0500
TZOFFSETTO:-0400
TZNAME:EDT
DTSTART:20260308T070000
END:DAYLIGHT
BEGIN:STANDARD
TZOFFSETFROM:-0400
TZOFFSETTO:-0500
TZNAME:EST
DTSTART:20261101T060000
END:STANDARD
BEGIN:DAYLIGHT
TZOFFSETFROM:-0500
TZOFFSETTO:-0400
TZNAME:EDT
DTSTART:20270314T070000
END:DAYLIGHT
BEGIN:STANDARD
TZOFFSETFROM:-0400
TZOFFSETTO:-0500
TZNAME:EST
DTSTART:20271107T060000
END:STANDARD
END:VTIMEZONE
BEGIN:VEVENT
DTSTART;TZID=America/Toronto:20260701T093000
DTEND;TZID=America/Toronto:20260701T230000
DTSTAMP:20260423T162843
CREATED:20260218T204016Z
LAST-MODIFIED:20260218T210501Z
UID:3801-1782898200-1782946800@fleetwayfun.com
SUMMARY:OPEN - NO Exclusive Available
DESCRIPTION:
URL:https://fleetwayfun.com/event/kids-play-centre-open-from-500-700pm-no-exclusive-booking-2/
END:VEVENT
BEGIN:VEVENT
DTSTART;TZID=America/Toronto:20260708T170000
DTEND;TZID=America/Toronto:20260708T190000
DTSTAMP:20260423T162843
CREATED:20260318T150240Z
LAST-MODIFIED:20260318T150240Z
UID:3872-1783530000-1783537200@fleetwayfun.com
SUMMARY:Kids Play Centre CLOSED from 5:00 – 7:00pm for Exclusive Booking
DESCRIPTION:
URL:https://fleetwayfun.com/event/kids-play-centre-closed-from-500-700pm-for-exclusive-booking-243/
END:VEVENT
END:VCALENDAR