BEGIN:VCALENDAR
VERSION:2.0
PRODID:-//Fleetway Fun - ECPv6.15.17.1//NONSGML v1.0//EN
CALSCALE:GREGORIAN
METHOD:PUBLISH
X-WR-CALNAME:Fleetway Fun
X-ORIGINAL-URL:https://fleetwayfun.com
X-WR-CALDESC:Events for Fleetway Fun
REFRESH-INTERVAL;VALUE=DURATION:PT1H
X-Robots-Tag:noindex
X-PUBLISHED-TTL:PT1H
BEGIN:VTIMEZONE
TZID:America/Toronto
BEGIN:DAYLIGHT
TZOFFSETFROM:-0500
TZOFFSETTO:-0400
TZNAME:EDT
DTSTART:20250309T070000
END:DAYLIGHT
BEGIN:STANDARD
TZOFFSETFROM:-0400
TZOFFSETTO:-0500
TZNAME:EST
DTSTART:20251102T060000
END:STANDARD
BEGIN:DAYLIGHT
TZOFFSETFROM:-0500
TZOFFSETTO:-0400
TZNAME:EDT
DTSTART:20260308T070000
END:DAYLIGHT
BEGIN:STANDARD
TZOFFSETFROM:-0400
TZOFFSETTO:-0500
TZNAME:EST
DTSTART:20261101T060000
END:STANDARD
BEGIN:DAYLIGHT
TZOFFSETFROM:-0500
TZOFFSETTO:-0400
TZNAME:EDT
DTSTART:20270314T070000
END:DAYLIGHT
BEGIN:STANDARD
TZOFFSETFROM:-0400
TZOFFSETTO:-0500
TZNAME:EST
DTSTART:20271107T060000
END:STANDARD
END:VTIMEZONE
BEGIN:VEVENT
DTSTART;TZID=America/Toronto:20260601T170000
DTEND;TZID=America/Toronto:20260601T190000
DTSTAMP:20260423T145443
CREATED:20260224T193428Z
LAST-MODIFIED:20260224T193428Z
UID:3834-1780333200-1780340400@fleetwayfun.com
SUMMARY:Kids Play Centre CLOSED from 5:00 – 7:00pm for Exclusive Booking
DESCRIPTION:
URL:https://fleetwayfun.com/event/kids-play-centre-closed-from-500-700pm-for-exclusive-booking-233/
END:VEVENT
BEGIN:VEVENT
DTSTART;TZID=America/Toronto:20260608T170000
DTEND;TZID=America/Toronto:20260608T190000
DTSTAMP:20260423T145443
CREATED:20260421T185221Z
LAST-MODIFIED:20260421T185221Z
UID:3923-1780938000-1780945200@fleetwayfun.com
SUMMARY:Kids Play Centre CLOSED from 5:00 – 7:00pm for Exclusive Booking
DESCRIPTION:
URL:https://fleetwayfun.com/event/kids-play-centre-closed-from-500-700pm-for-exclusive-booking-258/
END:VEVENT
BEGIN:VEVENT
DTSTART;TZID=America/Toronto:20260610T170000
DTEND;TZID=America/Toronto:20260610T190000
DTSTAMP:20260423T145443
CREATED:20260202T190646Z
LAST-MODIFIED:20260202T190646Z
UID:3784-1781110800-1781118000@fleetwayfun.com
SUMMARY:Kids Play Centre CLOSED from 5:00 – 7:00pm for Exclusive Booking
DESCRIPTION:
URL:https://fleetwayfun.com/event/kids-play-centre-closed-from-500-700pm-for-exclusive-booking-225/
END:VEVENT
BEGIN:VEVENT
DTSTART;TZID=America/Toronto:20260611T170000
DTEND;TZID=America/Toronto:20260611T190000
DTSTAMP:20260423T145443
CREATED:20260417T183105Z
LAST-MODIFIED:20260417T183105Z
UID:3919-1781197200-1781204400@fleetwayfun.com
SUMMARY:Kids Play Centre CLOSED from 5:00 – 7:00pm for Exclusive Booking
DESCRIPTION:
URL:https://fleetwayfun.com/event/kids-play-centre-closed-from-500-700pm-for-exclusive-booking-256/
END:VEVENT
BEGIN:VEVENT
DTSTART;TZID=America/Toronto:20260618T170000
DTEND;TZID=America/Toronto:20260618T190000
DTSTAMP:20260423T145443
CREATED:20260413T171436Z
LAST-MODIFIED:20260413T171436Z
UID:3908-1781802000-1781809200@fleetwayfun.com
SUMMARY:Kids Play Centre CLOSED from 5:00 – 7:00pm for Exclusive Booking
DESCRIPTION:
URL:https://fleetwayfun.com/event/kids-play-centre-closed-from-500-700pm-for-exclusive-booking-254/
END:VEVENT
BEGIN:VEVENT
DTSTART;TZID=America/Toronto:20260623T170000
DTEND;TZID=America/Toronto:20260623T190000
DTSTAMP:20260423T145443
CREATED:20260323T142048Z
LAST-MODIFIED:20260323T142048Z
UID:3880-1782234000-1782241200@fleetwayfun.com
SUMMARY:Kids Play Centre CLOSED from 5:00 – 7:00pm for Exclusive Booking
DESCRIPTION:
URL:https://fleetwayfun.com/event/kids-play-centre-closed-from-500-700pm-for-exclusive-booking-246/
END:VEVENT
BEGIN:VEVENT
DTSTART;TZID=America/Toronto:20260624T170000
DTEND;TZID=America/Toronto:20260624T190000
DTSTAMP:20260423T145443
CREATED:20260406T183033Z
LAST-MODIFIED:20260406T183033Z
UID:3899-1782320400-1782327600@fleetwayfun.com
SUMMARY:Kids Play Centre CLOSED from 5:00 – 7:00pm for Exclusive Booking
DESCRIPTION:
URL:https://fleetwayfun.com/event/kids-play-centre-closed-from-500-700pm-for-exclusive-booking-252/
END:VEVENT
BEGIN:VEVENT
DTSTART;TZID=America/Toronto:20260625T170000
DTEND;TZID=America/Toronto:20260625T190000
DTSTAMP:20260423T145443
CREATED:20250522T222553Z
LAST-MODIFIED:20250522T222553Z
UID:3190-1782406800-1782414000@fleetwayfun.com
SUMMARY:Kids Play Centre CLOSED from 5:00 – 7:00pm for Exclusive Booking
DESCRIPTION:Thursday June 25th – Kids Play Centre CLOSED from 5:00 – 7:00pm for Exclusive Booking
URL:https://fleetwayfun.com/event/kids-play-centre-closed-from-500-700pm-for-exclusive-booking-99/
END:VEVENT
END:VCALENDAR