BEGIN:VCALENDAR
VERSION:2.0
PRODID:-//Fleetway Fun - ECPv6.15.17.1//NONSGML v1.0//EN
CALSCALE:GREGORIAN
METHOD:PUBLISH
X-ORIGINAL-URL:https://fleetwayfun.com
X-WR-CALDESC:Events for Fleetway Fun
REFRESH-INTERVAL;VALUE=DURATION:PT1H
X-Robots-Tag:noindex
X-PUBLISHED-TTL:PT1H
BEGIN:VTIMEZONE
TZID:America/Toronto
BEGIN:DAYLIGHT
TZOFFSETFROM:-0500
TZOFFSETTO:-0400
TZNAME:EDT
DTSTART:20250309T070000
END:DAYLIGHT
BEGIN:STANDARD
TZOFFSETFROM:-0400
TZOFFSETTO:-0500
TZNAME:EST
DTSTART:20251102T060000
END:STANDARD
BEGIN:DAYLIGHT
TZOFFSETFROM:-0500
TZOFFSETTO:-0400
TZNAME:EDT
DTSTART:20260308T070000
END:DAYLIGHT
BEGIN:STANDARD
TZOFFSETFROM:-0400
TZOFFSETTO:-0500
TZNAME:EST
DTSTART:20261101T060000
END:STANDARD
BEGIN:DAYLIGHT
TZOFFSETFROM:-0500
TZOFFSETTO:-0400
TZNAME:EDT
DTSTART:20270314T070000
END:DAYLIGHT
BEGIN:STANDARD
TZOFFSETFROM:-0400
TZOFFSETTO:-0500
TZNAME:EST
DTSTART:20271107T060000
END:STANDARD
END:VTIMEZONE
BEGIN:VEVENT
DTSTART;TZID=America/Toronto:20260202T170000
DTEND;TZID=America/Toronto:20260202T190000
DTSTAMP:20260423T145550
CREATED:20251217T151727Z
LAST-MODIFIED:20251217T151727Z
UID:3675-1770051600-1770058800@fleetwayfun.com
SUMMARY:Kids Play Centre CLOSED from 5:00 – 7:00pm for Exclusive Booking
DESCRIPTION:
URL:https://fleetwayfun.com/event/kids-play-centre-closed-from-500-700pm-for-exclusive-booking-179/
END:VEVENT
BEGIN:VEVENT
DTSTART;TZID=America/Toronto:20260203T170000
DTEND;TZID=America/Toronto:20260203T190000
DTSTAMP:20260423T145550
CREATED:20250929T211125Z
LAST-MODIFIED:20250929T211125Z
UID:3473-1770138000-1770145200@fleetwayfun.com
SUMMARY:Kids Play Centre CLOSED from 5:00 – 7:00pm for Exclusive Booking
DESCRIPTION:
URL:https://fleetwayfun.com/event/kids-play-centre-closed-from-500-700pm-for-exclusive-booking-143/
END:VEVENT
BEGIN:VEVENT
DTSTART;TZID=America/Toronto:20260204T170000
DTEND;TZID=America/Toronto:20260204T190000
DTSTAMP:20260423T145550
CREATED:20260105T165559Z
LAST-MODIFIED:20260105T165559Z
UID:3710-1770224400-1770231600@fleetwayfun.com
SUMMARY:Kids Play Centre CLOSED from 5:00 – 7:00pm for Exclusive Booking
DESCRIPTION:
URL:https://fleetwayfun.com/event/kids-play-centre-closed-from-500-700pm-for-exclusive-booking-204/
END:VEVENT
BEGIN:VEVENT
DTSTART;TZID=America/Toronto:20260205T170000
DTEND;TZID=America/Toronto:20260205T190000
DTSTAMP:20260423T145550
CREATED:20251202T153001Z
LAST-MODIFIED:20251202T153001Z
UID:3632-1770310800-1770318000@fleetwayfun.com
SUMMARY:Kids Play Centre CLOSED from 5:00 – 7:00pm for Exclusive Booking
DESCRIPTION:
URL:https://fleetwayfun.com/event/kids-play-centre-closed-from-500-700pm-for-exclusive-booking-190/
END:VEVENT
BEGIN:VEVENT
DTSTART;TZID=America/Toronto:20260209T170000
DTEND;TZID=America/Toronto:20260209T190000
DTSTAMP:20260423T145550
CREATED:20251217T233137Z
LAST-MODIFIED:20251217T233137Z
UID:3679-1770656400-1770663600@fleetwayfun.com
SUMMARY:Kids Play Centre CLOSED from 5:00 – 7:00pm for Exclusive Booking
DESCRIPTION:
URL:https://fleetwayfun.com/event/kids-play-centre-closed-from-500-700pm-for-exclusive-booking-198/
END:VEVENT
BEGIN:VEVENT
DTSTART;TZID=America/Toronto:20260210T170000
DTEND;TZID=America/Toronto:20260210T190000
DTSTAMP:20260423T145550
CREATED:20251218T163158Z
LAST-MODIFIED:20251218T163158Z
UID:3682-1770742800-1770750000@fleetwayfun.com
SUMMARY:Kids Play Centre CLOSED from 5:00 – 7:00pm for Exclusive Booking
DESCRIPTION:
URL:https://fleetwayfun.com/event/kids-play-centre-closed-from-500-700pm-for-exclusive-booking-199/
END:VEVENT
BEGIN:VEVENT
DTSTART;TZID=America/Toronto:20260211T170000
DTEND;TZID=America/Toronto:20260211T190000
DTSTAMP:20260423T145550
CREATED:20251219T191514Z
LAST-MODIFIED:20251219T191514Z
UID:3685-1770829200-1770836400@fleetwayfun.com
SUMMARY:Kids Play Centre CLOSED from 5:00 – 7:00pm for Exclusive Booking
DESCRIPTION:
URL:https://fleetwayfun.com/event/kids-play-centre-closed-from-500-700pm-for-exclusive-booking-197/
END:VEVENT
BEGIN:VEVENT
DTSTART;TZID=America/Toronto:20260212T170000
DTEND;TZID=America/Toronto:20260212T190000
DTSTAMP:20260423T145550
CREATED:20251222T153830Z
LAST-MODIFIED:20251222T153830Z
UID:3689-1770915600-1770922800@fleetwayfun.com
SUMMARY:Kids Play Centre CLOSED from 5:00 – 7:00pm for Exclusive Booking
DESCRIPTION:
URL:https://fleetwayfun.com/event/kids-play-centre-closed-from-500-700pm-for-exclusive-booking-201/
END:VEVENT
BEGIN:VEVENT
DTSTART;TZID=America/Toronto:20260216T170000
DTEND;TZID=America/Toronto:20260216T190000
DTSTAMP:20260423T145550
CREATED:20260116T151912Z
LAST-MODIFIED:20260116T151912Z
UID:3757-1771261200-1771268400@fleetwayfun.com
SUMMARY:Kids Play Centre OPEN - No Exclusives Available
DESCRIPTION:
URL:https://fleetwayfun.com/event/kids-play-centre-open-no-exclusives-available/
END:VEVENT
BEGIN:VEVENT
DTSTART;TZID=America/Toronto:20260217T170000
DTEND;TZID=America/Toronto:20260217T190000
DTSTAMP:20260423T145550
CREATED:20260119T152857Z
LAST-MODIFIED:20260119T152857Z
UID:3759-1771347600-1771354800@fleetwayfun.com
SUMMARY:Kids Play Centre CLOSED from 5:00 – 7:00pm for Exclusive Booking
DESCRIPTION:
URL:https://fleetwayfun.com/event/kids-play-centre-closed-from-500-700pm-for-exclusive-booking-216/
END:VEVENT
BEGIN:VEVENT
DTSTART;TZID=America/Toronto:20260218T170000
DTEND;TZID=America/Toronto:20260218T190000
DTSTAMP:20260423T145550
CREATED:20251229T182601Z
LAST-MODIFIED:20251229T182601Z
UID:3700-1771434000-1771441200@fleetwayfun.com
SUMMARY:Kids Play Centre CLOSED from 5:00 – 7:00pm for Exclusive Booking
DESCRIPTION:
URL:https://fleetwayfun.com/event/kids-play-centre-closed-from-500-700pm-for-exclusive-booking-195/
END:VEVENT
BEGIN:VEVENT
DTSTART;TZID=America/Toronto:20260219T170000
DTEND;TZID=America/Toronto:20260219T190000
DTSTAMP:20260423T145550
CREATED:20251209T152541Z
LAST-MODIFIED:20251209T152541Z
UID:3665-1771520400-1771527600@fleetwayfun.com
SUMMARY:Kids Play Centre CLOSED from 5:00 – 7:00pm for Exclusive Booking
DESCRIPTION:
URL:https://fleetwayfun.com/event/kids-play-centre-closed-from-500-700pm-for-exclusive-booking-194/
END:VEVENT
BEGIN:VEVENT
DTSTART;TZID=America/Toronto:20260223T170000
DTEND;TZID=America/Toronto:20260223T190000
DTSTAMP:20260423T145550
CREATED:20260113T195745Z
LAST-MODIFIED:20260113T195745Z
UID:3749-1771866000-1771873200@fleetwayfun.com
SUMMARY:Kids Play Centre CLOSED from 5:00 – 7:00pm for Exclusive Booking
DESCRIPTION:
URL:https://fleetwayfun.com/event/kids-play-centre-closed-from-500-700pm-for-exclusive-booking-208/
END:VEVENT
BEGIN:VEVENT
DTSTART;TZID=America/Toronto:20260224T170000
DTEND;TZID=America/Toronto:20260224T190000
DTSTAMP:20260423T145550
CREATED:20260105T153024Z
LAST-MODIFIED:20260105T153024Z
UID:3708-1771952400-1771959600@fleetwayfun.com
SUMMARY:Kids Play Centre CLOSED from 5:00 – 7:00pm for Exclusive Booking
DESCRIPTION:
URL:https://fleetwayfun.com/event/kids-play-centre-closed-from-500-700pm-for-exclusive-booking-187/
END:VEVENT
BEGIN:VEVENT
DTSTART;TZID=America/Toronto:20260225T170000
DTEND;TZID=America/Toronto:20260225T190000
DTSTAMP:20260423T145550
CREATED:20260106T215446Z
LAST-MODIFIED:20260106T215446Z
UID:3717-1772038800-1772046000@fleetwayfun.com
SUMMARY:Kids Play Centre CLOSED from 5:00 – 7:00pm for Exclusive Booking
DESCRIPTION:
URL:https://fleetwayfun.com/event/kids-play-centre-closed-from-500-700pm-for-exclusive-booking-207/
END:VEVENT
BEGIN:VEVENT
DTSTART;TZID=America/Toronto:20260226T170000
DTEND;TZID=America/Toronto:20260226T190000
DTSTAMP:20260423T145550
CREATED:20260123T181936Z
LAST-MODIFIED:20260123T181937Z
UID:3771-1772125200-1772132400@fleetwayfun.com
SUMMARY:Kids Play Centre CLOSED from 5:00 – 7:00pm for Exclusive Booking
DESCRIPTION:
URL:https://fleetwayfun.com/event/kids-play-centre-closed-from-500-700pm-for-exclusive-booking-220/
END:VEVENT
END:VCALENDAR