BEGIN:VCALENDAR
VERSION:2.0
PRODID:-//Fleetway Fun - ECPv6.15.17.1//NONSGML v1.0//EN
CALSCALE:GREGORIAN
METHOD:PUBLISH
X-WR-CALNAME:Fleetway Fun
X-ORIGINAL-URL:https://fleetwayfun.com
X-WR-CALDESC:Events for Fleetway Fun
REFRESH-INTERVAL;VALUE=DURATION:PT1H
X-Robots-Tag:noindex
X-PUBLISHED-TTL:PT1H
BEGIN:VTIMEZONE
TZID:America/Toronto
BEGIN:DAYLIGHT
TZOFFSETFROM:-0500
TZOFFSETTO:-0400
TZNAME:EDT
DTSTART:20240310T070000
END:DAYLIGHT
BEGIN:STANDARD
TZOFFSETFROM:-0400
TZOFFSETTO:-0500
TZNAME:EST
DTSTART:20241103T060000
END:STANDARD
BEGIN:DAYLIGHT
TZOFFSETFROM:-0500
TZOFFSETTO:-0400
TZNAME:EDT
DTSTART:20250309T070000
END:DAYLIGHT
BEGIN:STANDARD
TZOFFSETFROM:-0400
TZOFFSETTO:-0500
TZNAME:EST
DTSTART:20251102T060000
END:STANDARD
BEGIN:DAYLIGHT
TZOFFSETFROM:-0500
TZOFFSETTO:-0400
TZNAME:EDT
DTSTART:20260308T070000
END:DAYLIGHT
BEGIN:STANDARD
TZOFFSETFROM:-0400
TZOFFSETTO:-0500
TZNAME:EST
DTSTART:20261101T060000
END:STANDARD
END:VTIMEZONE
BEGIN:VEVENT
DTSTART;TZID=America/Toronto:20251001T170000
DTEND;TZID=America/Toronto:20251001T190000
DTSTAMP:20260423T212457
CREATED:20250916T205809Z
LAST-MODIFIED:20250916T205809Z
UID:3461-1759338000-1759345200@fleetwayfun.com
SUMMARY:Kids Play Centre CLOSED from 5:00 – 7:00pm for Exclusive Booking
DESCRIPTION:
URL:https://fleetwayfun.com/event/kids-play-centre-closed-from-500-700pm-for-exclusive-booking-146/
END:VEVENT
BEGIN:VEVENT
DTSTART;TZID=America/Toronto:20251002T170000
DTEND;TZID=America/Toronto:20251002T190000
DTSTAMP:20260423T212457
CREATED:20250728T220844Z
LAST-MODIFIED:20250728T220844Z
UID:3351-1759424400-1759431600@fleetwayfun.com
SUMMARY:Kids Play Centre CLOSED from 5:00 – 7:00pm for Exclusive Booking
DESCRIPTION:Thursday October 2nd – Kids Play Centre CLOSED from 5:00 – 7:00pm for Exclusive Booking
URL:https://fleetwayfun.com/event/kids-play-centre-closed-from-500-700pm-for-exclusive-booking-127/
END:VEVENT
BEGIN:VEVENT
DTSTART;TZID=America/Toronto:20251006T170000
DTEND;TZID=America/Toronto:20251006T190000
DTSTAMP:20260423T212457
CREATED:20250825T212330Z
LAST-MODIFIED:20250825T212330Z
UID:3404-1759770000-1759777200@fleetwayfun.com
SUMMARY:Kids Play Centre CLOSED from 5:00 – 7:00pm for Exclusive Booking
DESCRIPTION:Monday October 6th – Kids Play Centre CLOSED from 5:00 – 7:00pm for Exclusive Booking
URL:https://fleetwayfun.com/event/kids-play-centre-closed-from-500-700pm-for-exclusive-booking-115/
END:VEVENT
BEGIN:VEVENT
DTSTART;TZID=America/Toronto:20251007T170000
DTEND;TZID=America/Toronto:20251007T190000
DTSTAMP:20260423T212457
CREATED:20250808T205350Z
LAST-MODIFIED:20250808T205350Z
UID:3392-1759856400-1759863600@fleetwayfun.com
SUMMARY:Kids Play Centre CLOSED from 5:00 – 7:00pm for Exclusive Booking
DESCRIPTION:Tuesday October 7th – Kids Play Centre CLOSED from 5:00 – 7:00pm for Exclusive Booking
URL:https://fleetwayfun.com/event/kids-play-centre-closed-from-500-700pm-for-exclusive-booking-130/
END:VEVENT
BEGIN:VEVENT
DTSTART;TZID=America/Toronto:20251009T170000
DTEND;TZID=America/Toronto:20251009T190000
DTSTAMP:20260423T212457
CREATED:20250819T180131Z
LAST-MODIFIED:20250819T180131Z
UID:3400-1760029200-1760036400@fleetwayfun.com
SUMMARY:Kids Play Centre CLOSED from 5:00 – 7:00pm for Exclusive Booking
DESCRIPTION:Kids Play Centre CLOSED from 5:00 – 7:00pm for Exclusive Booking
URL:https://fleetwayfun.com/event/kids-play-centre-closed-from-500-700pm-for-exclusive-booking-131/
END:VEVENT
BEGIN:VEVENT
DTSTART;TZID=America/Toronto:20251014T170000
DTEND;TZID=America/Toronto:20251014T190000
DTSTAMP:20260423T212457
CREATED:20250910T204754Z
LAST-MODIFIED:20250910T204754Z
UID:3448-1760461200-1760468400@fleetwayfun.com
SUMMARY:Kids Play Centre CLOSED from 5:00 – 7:00pm for Exclusive Booking
DESCRIPTION:
URL:https://fleetwayfun.com/event/kids-play-centre-closed-from-500-700pm-for-exclusive-booking-141/
END:VEVENT
BEGIN:VEVENT
DTSTART;TZID=America/Toronto:20251016T170000
DTEND;TZID=America/Toronto:20251016T190000
DTSTAMP:20260423T212457
CREATED:20250908T195156Z
LAST-MODIFIED:20250908T195156Z
UID:3436-1760634000-1760641200@fleetwayfun.com
SUMMARY:Kids Play Centre CLOSED from 5:00 – 7:00pm for Exclusive Booking
DESCRIPTION:
URL:https://fleetwayfun.com/event/kids-play-centre-closed-from-500-700pm-for-exclusive-booking-136/
END:VEVENT
BEGIN:VEVENT
DTSTART;TZID=America/Toronto:20251020T170000
DTEND;TZID=America/Toronto:20251020T190000
DTSTAMP:20260423T212457
CREATED:20250916T172215Z
LAST-MODIFIED:20250916T172215Z
UID:3459-1760979600-1760986800@fleetwayfun.com
SUMMARY:Kids Play Centre CLOSED from 5:00 – 7:00pm for Exclusive Booking
DESCRIPTION:
URL:https://fleetwayfun.com/event/kids-play-centre-closed-from-500-700pm-for-exclusive-booking-125/
END:VEVENT
BEGIN:VEVENT
DTSTART;TZID=America/Toronto:20251021T170000
DTEND;TZID=America/Toronto:20251021T190000
DTSTAMP:20260423T212457
CREATED:20250910T183414Z
LAST-MODIFIED:20250910T201941Z
UID:3446-1761066000-1761073200@fleetwayfun.com
SUMMARY:Kids Play Centre CLOSED from 5:00 – 7:00pm for Exclusive Booking
DESCRIPTION:
URL:https://fleetwayfun.com/event/kids-play-centre-closed-from-500-700pm-for-exclusive-booking-140/
END:VEVENT
BEGIN:VEVENT
DTSTART;TZID=America/Toronto:20251023T170000
DTEND;TZID=America/Toronto:20251023T190000
DTSTAMP:20260423T212457
CREATED:20250903T163137Z
LAST-MODIFIED:20250903T163137Z
UID:3429-1761238800-1761246000@fleetwayfun.com
SUMMARY:Kids Play Centre CLOSED from 5:00 – 7:00pm for Exclusive Booking
DESCRIPTION:
URL:https://fleetwayfun.com/event/kids-play-centre-closed-from-500-700pm-for-exclusive-booking-129/
END:VEVENT
BEGIN:VEVENT
DTSTART;TZID=America/Toronto:20251027T170000
DTEND;TZID=America/Toronto:20251027T190000
DTSTAMP:20260423T212457
CREATED:20251003T170006Z
LAST-MODIFIED:20251003T170006Z
UID:3495-1761584400-1761591600@fleetwayfun.com
SUMMARY:Kids Play Centre CLOSED from 5:00 – 7:00pm for Exclusive Booking
DESCRIPTION:
URL:https://fleetwayfun.com/event/kids-play-centre-closed-from-500-700pm-for-exclusive-booking-157/
END:VEVENT
BEGIN:VEVENT
DTSTART;TZID=America/Toronto:20251028T170000
DTEND;TZID=America/Toronto:20251028T190000
DTSTAMP:20260423T212457
CREATED:20250927T183842Z
LAST-MODIFIED:20250927T183842Z
UID:3471-1761670800-1761678000@fleetwayfun.com
SUMMARY:Kids Play Centre CLOSED from 5:00 – 7:00pm for Exclusive Booking
DESCRIPTION:Tuesday October 28th – Kids Play Centre CLOSED from 5:00 – 7:00pm for Exclusive Booking
URL:https://fleetwayfun.com/event/kids-play-centre-closed-from-500-700pm-for-exclusive-booking-149/
END:VEVENT
BEGIN:VEVENT
DTSTART;TZID=America/Toronto:20251030T170000
DTEND;TZID=America/Toronto:20251030T190000
DTSTAMP:20260423T212457
CREATED:20251007T201555Z
LAST-MODIFIED:20251007T201555Z
UID:3499-1761843600-1761850800@fleetwayfun.com
SUMMARY:Kids Play Centre CLOSED from 5:00 – 7:00pm for Exclusive Booking
DESCRIPTION:
URL:https://fleetwayfun.com/event/kids-play-centre-closed-from-500-700pm-for-exclusive-booking-159/
END:VEVENT
END:VCALENDAR