BEGIN:VCALENDAR
VERSION:2.0
PRODID:-//Fleetway Fun - ECPv6.15.17.1//NONSGML v1.0//EN
CALSCALE:GREGORIAN
METHOD:PUBLISH
X-ORIGINAL-URL:https://fleetwayfun.com
X-WR-CALDESC:Events for Fleetway Fun
REFRESH-INTERVAL;VALUE=DURATION:PT1H
X-Robots-Tag:noindex
X-PUBLISHED-TTL:PT1H
BEGIN:VTIMEZONE
TZID:America/Toronto
BEGIN:DAYLIGHT
TZOFFSETFROM:-0500
TZOFFSETTO:-0400
TZNAME:EDT
DTSTART:20240310T070000
END:DAYLIGHT
BEGIN:STANDARD
TZOFFSETFROM:-0400
TZOFFSETTO:-0500
TZNAME:EST
DTSTART:20241103T060000
END:STANDARD
BEGIN:DAYLIGHT
TZOFFSETFROM:-0500
TZOFFSETTO:-0400
TZNAME:EDT
DTSTART:20250309T070000
END:DAYLIGHT
BEGIN:STANDARD
TZOFFSETFROM:-0400
TZOFFSETTO:-0500
TZNAME:EST
DTSTART:20251102T060000
END:STANDARD
BEGIN:DAYLIGHT
TZOFFSETFROM:-0500
TZOFFSETTO:-0400
TZNAME:EDT
DTSTART:20260308T070000
END:DAYLIGHT
BEGIN:STANDARD
TZOFFSETFROM:-0400
TZOFFSETTO:-0500
TZNAME:EST
DTSTART:20261101T060000
END:STANDARD
END:VTIMEZONE
BEGIN:VEVENT
DTSTART;TZID=America/Toronto:20250904T170000
DTEND;TZID=America/Toronto:20250904T190000
DTSTAMP:20260423T225406
CREATED:20250728T221151Z
LAST-MODIFIED:20250728T221151Z
UID:3353-1757005200-1757012400@fleetwayfun.com
SUMMARY:Kids Play Centre CLOSED from 5:00 – 7:00pm for Exclusive Booking
DESCRIPTION:Thursday September 4th – Kids Play Centre CLOSED from 5:00 – 7:00pm for Exclusive Booking
URL:https://fleetwayfun.com/event/kids-play-centre-closed-from-500-700pm-for-exclusive-booking-128/
END:VEVENT
BEGIN:VEVENT
DTSTART;TZID=America/Toronto:20250904T170000
DTEND;TZID=America/Toronto:20250904T190000
DTSTAMP:20260423T225406
CREATED:20250911T175940Z
LAST-MODIFIED:20250911T175940Z
UID:3450-1757005200-1757012400@fleetwayfun.com
SUMMARY:Kids Play Centre CLOSED from 5:00 – 7:00pm for Exclusive Booking
DESCRIPTION:
URL:https://fleetwayfun.com/event/kids-play-centre-closed-from-500-700pm-for-exclusive-booking-142/
END:VEVENT
BEGIN:VEVENT
DTSTART;TZID=America/Toronto:20250911T170000
DTEND;TZID=America/Toronto:20250911T190000
DTSTAMP:20260423T225406
CREATED:20250714T211912Z
LAST-MODIFIED:20250714T211912Z
UID:3328-1757610000-1757617200@fleetwayfun.com
SUMMARY:Kids Play Centre CLOSED from 5:00 – 7:00pm for Exclusive Booking
DESCRIPTION:Thursday September 11th – Kids Play Centre CLOSED from 5:00 – 7:00pm for Exclusive Booking
URL:https://fleetwayfun.com/event/kids-play-centre-closed-from-500-700pm-for-exclusive-booking-122/
END:VEVENT
BEGIN:VEVENT
DTSTART;TZID=America/Toronto:20250915T170000
DTEND;TZID=America/Toronto:20250915T190000
DTSTAMP:20260423T225406
CREATED:20250909T170353Z
LAST-MODIFIED:20250909T170353Z
UID:3440-1757955600-1757962800@fleetwayfun.com
SUMMARY:Kids Play Centre CLOSED from 5:00 – 7:00pm for Exclusive Booking
DESCRIPTION:
URL:https://fleetwayfun.com/event/kids-play-centre-closed-from-500-700pm-for-exclusive-booking-137/
END:VEVENT
BEGIN:VEVENT
DTSTART;TZID=America/Toronto:20250916T170000
DTEND;TZID=America/Toronto:20250916T190000
DTSTAMP:20260423T225406
CREATED:20250819T192712Z
LAST-MODIFIED:20250819T192712Z
UID:3402-1758042000-1758049200@fleetwayfun.com
SUMMARY:Kids Play Centre CLOSED from 5:00 – 7:00pm for Exclusive Booking
DESCRIPTION:Kids Play Centre CLOSED from 5:00 – 7:00pm for Exclusive Booking
URL:https://fleetwayfun.com/event/kids-play-centre-closed-from-500-700pm-for-exclusive-booking-132/
END:VEVENT
BEGIN:VEVENT
DTSTART;TZID=America/Toronto:20250917T170000
DTEND;TZID=America/Toronto:20250917T190000
DTSTAMP:20260423T225406
CREATED:20250806T215100Z
LAST-MODIFIED:20250806T215100Z
UID:3384-1758128400-1758135600@fleetwayfun.com
SUMMARY:Kids Play Centre CLOSED from 5:00 – 7:00pm for Exclusive Booking
DESCRIPTION:Wednesday September 17th – Kids Play Centre CLOSED from 5:00 – 7:00pm for Exclusive Booking
URL:https://fleetwayfun.com/event/kids-play-centre-closed-from-500-700pm-for-exclusive-booking-112/
END:VEVENT
BEGIN:VEVENT
DTSTART;TZID=America/Toronto:20250918T170000
DTEND;TZID=America/Toronto:20250918T190000
DTSTAMP:20260423T225406
CREATED:20250806T205917Z
LAST-MODIFIED:20250806T205917Z
UID:3382-1758214800-1758222000@fleetwayfun.com
SUMMARY:Kids Play Centre CLOSED from 5:00 – 7:00pm for Exclusive Booking
DESCRIPTION:Thursday September 18th – Kids Play Centre CLOSED from 5:00 – 7:00pm for Exclusive Booking
URL:https://fleetwayfun.com/event/kids-play-centre-closed-from-500-700pm-for-exclusive-booking-86/
END:VEVENT
BEGIN:VEVENT
DTSTART;TZID=America/Toronto:20250922T170000
DTEND;TZID=America/Toronto:20250922T190000
DTSTAMP:20260423T225406
CREATED:20250908T194702Z
LAST-MODIFIED:20250908T194702Z
UID:3434-1758560400-1758567600@fleetwayfun.com
SUMMARY:Kids Play Centre CLOSED from 5:00 – 7:00pm for Exclusive Booking
DESCRIPTION:
URL:https://fleetwayfun.com/event/kids-play-centre-closed-from-500-700pm-for-exclusive-booking-135/
END:VEVENT
BEGIN:VEVENT
DTSTART;TZID=America/Toronto:20250923T170000
DTEND;TZID=America/Toronto:20250923T190000
DTSTAMP:20260423T225406
CREATED:20250825T231332Z
LAST-MODIFIED:20250825T231332Z
UID:3406-1758646800-1758654000@fleetwayfun.com
SUMMARY:Kids Play Centre CLOSED from 5:00 – 7:00pm for Exclusive Booking
DESCRIPTION:Tuesday September 23rd – Kids Play Centre CLOSED from 5:00 – 7:00pm for Exclusive Booking
URL:https://fleetwayfun.com/event/kids-play-centre-closed-from-500-700pm-for-exclusive-booking-133/
END:VEVENT
BEGIN:VEVENT
DTSTART;TZID=America/Toronto:20250924T170000
DTEND;TZID=America/Toronto:20250924T190000
DTSTAMP:20260423T225406
CREATED:20250904T151840Z
LAST-MODIFIED:20250904T151840Z
UID:3432-1758733200-1758740400@fleetwayfun.com
SUMMARY:Kids Play Centre CLOSED from 5:00 – 7:00pm for Exclusive Booking
DESCRIPTION:Kids Play Centre CLOSED from 5:00 – 7:00pm for Exclusive Booking
URL:https://fleetwayfun.com/event/kids-play-centre-closed-from-500-700pm-for-exclusive-booking-134/
END:VEVENT
BEGIN:VEVENT
DTSTART;TZID=America/Toronto:20250925T170000
DTEND;TZID=America/Toronto:20250925T190000
DTSTAMP:20260423T225406
CREATED:20250716T195455Z
LAST-MODIFIED:20250716T195455Z
UID:3332-1758819600-1758826800@fleetwayfun.com
SUMMARY:Kids Play Centre CLOSED from 5:00 – 7:00pm for Exclusive Booking
DESCRIPTION:Thursday September 25th – Kids Play Centre CLOSED from 5:00 – 7:00pm for Exclusive Booking
URL:https://fleetwayfun.com/event/kids-play-centre-closed-from-500-700pm-for-exclusive-booking-124/
END:VEVENT
BEGIN:VEVENT
DTSTART;TZID=America/Toronto:20250929T170000
DTEND;TZID=America/Toronto:20250929T190000
DTSTAMP:20260423T225406
CREATED:20250909T170614Z
LAST-MODIFIED:20250909T170614Z
UID:3442-1759165200-1759172400@fleetwayfun.com
SUMMARY:Kids Play Centre CLOSED from 5:00 – 7:00pm for Exclusive Booking
DESCRIPTION:
URL:https://fleetwayfun.com/event/kids-play-centre-closed-from-500-700pm-for-exclusive-booking-138/
END:VEVENT
BEGIN:VEVENT
DTSTART;TZID=America/Toronto:20250930T170000
DTEND;TZID=America/Toronto:20250930T190000
DTSTAMP:20260423T225406
CREATED:20250909T210101Z
LAST-MODIFIED:20250909T210101Z
UID:3444-1759251600-1759258800@fleetwayfun.com
SUMMARY:kids Play Centre CLOSED from 5:00 – 7:00pm for Exclusive Booking
DESCRIPTION:
URL:https://fleetwayfun.com/event/kids-play-centre-closed-from-500-700pm-for-exclusive-booking-139/
END:VEVENT
END:VCALENDAR