BEGIN:VCALENDAR
VERSION:2.0
PRODID:-//Fleetway Fun - ECPv6.15.17.1//NONSGML v1.0//EN
CALSCALE:GREGORIAN
METHOD:PUBLISH
X-ORIGINAL-URL:https://fleetwayfun.com
X-WR-CALDESC:Events for Fleetway Fun
REFRESH-INTERVAL;VALUE=DURATION:PT1H
X-Robots-Tag:noindex
X-PUBLISHED-TTL:PT1H
BEGIN:VTIMEZONE
TZID:America/Toronto
BEGIN:DAYLIGHT
TZOFFSETFROM:-0500
TZOFFSETTO:-0400
TZNAME:EDT
DTSTART:20240310T070000
END:DAYLIGHT
BEGIN:STANDARD
TZOFFSETFROM:-0400
TZOFFSETTO:-0500
TZNAME:EST
DTSTART:20241103T060000
END:STANDARD
BEGIN:DAYLIGHT
TZOFFSETFROM:-0500
TZOFFSETTO:-0400
TZNAME:EDT
DTSTART:20250309T070000
END:DAYLIGHT
BEGIN:STANDARD
TZOFFSETFROM:-0400
TZOFFSETTO:-0500
TZNAME:EST
DTSTART:20251102T060000
END:STANDARD
BEGIN:DAYLIGHT
TZOFFSETFROM:-0500
TZOFFSETTO:-0400
TZNAME:EDT
DTSTART:20260308T070000
END:DAYLIGHT
BEGIN:STANDARD
TZOFFSETFROM:-0400
TZOFFSETTO:-0500
TZNAME:EST
DTSTART:20261101T060000
END:STANDARD
END:VTIMEZONE
BEGIN:VEVENT
DTSTART;TZID=America/Toronto:20250602T170000
DTEND;TZID=America/Toronto:20250602T190000
DTSTAMP:20260424T040608
CREATED:20250514T221156Z
LAST-MODIFIED:20250514T221156Z
UID:3178-1748883600-1748890800@fleetwayfun.com
SUMMARY:Kids Play Centre CLOSED from 5:00 – 7:00pm for Exclusive Booking
DESCRIPTION:Monday June 2nd – Kids Play Centre CLOSED from 5:00 – 7:00pm for Exclusive Booking
URL:https://fleetwayfun.com/event/kids-play-centre-closed-from-500-700pm-for-exclusive-booking-95/
END:VEVENT
BEGIN:VEVENT
DTSTART;TZID=America/Toronto:20250603T170000
DTEND;TZID=America/Toronto:20250603T190000
DTSTAMP:20260424T040608
CREATED:20250505T162539Z
LAST-MODIFIED:20250505T162539Z
UID:3161-1748970000-1748977200@fleetwayfun.com
SUMMARY:Kids Play Centre CLOSED from 5:00 – 7:00pm for Exclusive Booking
DESCRIPTION:Tuesday June 3rd – Kids Play Centre CLOSED from 5:00 – 7:00pm for Exclusive Booking
URL:https://fleetwayfun.com/event/kids-play-centre-closed-from-500-700pm-for-exclusive-booking-89/
END:VEVENT
BEGIN:VEVENT
DTSTART;TZID=America/Toronto:20250604T170000
DTEND;TZID=America/Toronto:20250604T190000
DTSTAMP:20260424T040608
CREATED:20250227T214929Z
LAST-MODIFIED:20250227T214929Z
UID:3064-1749056400-1749063600@fleetwayfun.com
SUMMARY:Kids Play Centre CLOSED from 5:00 – 7:00pm for Exclusive Booking
DESCRIPTION:Wednesday June 4th – Kids Play Centre CLOSED from 5:00 – 7:00pm for Exclusive Booking
URL:https://fleetwayfun.com/event/kids-play-centre-closed-from-500-700pm-for-exclusive-booking-53/
END:VEVENT
BEGIN:VEVENT
DTSTART;TZID=America/Toronto:20250605T170000
DTEND;TZID=America/Toronto:20250605T190000
DTSTAMP:20260424T040608
CREATED:20250310T171129Z
LAST-MODIFIED:20250310T171129Z
UID:3091-1749142800-1749150000@fleetwayfun.com
SUMMARY:Kids Play Centre CLOSED from 5:00 – 7:00pm for Exclusive Booking
DESCRIPTION:Thursday June 5th – Kids Play Centre CLOSED from 5:00 – 7:00pm for Exclusive Booking
URL:https://fleetwayfun.com/event/kids-play-centre-closed-from-500-700pm-for-exclusive-booking-64/
END:VEVENT
BEGIN:VEVENT
DTSTART;TZID=America/Toronto:20250609T170000
DTEND;TZID=America/Toronto:20250609T190000
DTSTAMP:20260424T040608
CREATED:20250507T211634Z
LAST-MODIFIED:20250507T211634Z
UID:3166-1749488400-1749495600@fleetwayfun.com
SUMMARY:Kids Play Centre CLOSED from 5:00 – 7:00pm for Exclusive Booking
DESCRIPTION:Monday June 9th – Kids Play Centre CLOSED from 5:00 – 7:00pm for Exclusive Booking
URL:https://fleetwayfun.com/event/kids-play-centre-closed-from-500-700pm-for-exclusive-booking-91/
END:VEVENT
BEGIN:VEVENT
DTSTART;TZID=America/Toronto:20250610T170000
DTEND;TZID=America/Toronto:20250610T190000
DTSTAMP:20260424T040608
CREATED:20250407T222018Z
LAST-MODIFIED:20250407T222018Z
UID:3120-1749574800-1749582000@fleetwayfun.com
SUMMARY:Kids Play Centre CLOSED from 5:00 – 7:00pm for Exclusive Booking
DESCRIPTION:Tuesday June 10th – Kids Play Centre CLOSED from 5:00 – 7:00pm for Exclusive Booking
URL:https://fleetwayfun.com/event/kids-play-centre-closed-from-500-700pm-for-exclusive-booking-73/
END:VEVENT
BEGIN:VEVENT
DTSTART;TZID=America/Toronto:20250611T170000
DTEND;TZID=America/Toronto:20250611T190000
DTSTAMP:20260424T040608
CREATED:20250509T165355Z
LAST-MODIFIED:20250509T165355Z
UID:3170-1749661200-1749668400@fleetwayfun.com
SUMMARY:Kids Play Centre CLOSED from 5:00 – 7:00pm for Exclusive Booking
DESCRIPTION:Wednesday June 11th – Kids Play Centre CLOSED from 5:00 – 7:00pm for Exclusive Booking
URL:https://fleetwayfun.com/event/kids-play-centre-closed-from-500-700pm-for-exclusive-booking-93/
END:VEVENT
BEGIN:VEVENT
DTSTART;TZID=America/Toronto:20250612T170000
DTEND;TZID=America/Toronto:20250612T190000
DTSTAMP:20260424T040608
CREATED:20250506T172933Z
LAST-MODIFIED:20250506T172933Z
UID:3163-1749747600-1749754800@fleetwayfun.com
SUMMARY:Kids Play Centre CLOSED from 5:00 – 7:00pm for Exclusive Booking
DESCRIPTION:Thursday June 12th – Kids Play Centre CLOSED from 5:00 – 7:00pm for Exclusive Booking
URL:https://fleetwayfun.com/event/kids-play-centre-closed-from-500-700pm-for-exclusive-booking-90/
END:VEVENT
BEGIN:VEVENT
DTSTART;TZID=America/Toronto:20250616T170000
DTEND;TZID=America/Toronto:20250616T190000
DTSTAMP:20260424T040608
CREATED:20250421T204306Z
LAST-MODIFIED:20250421T204306Z
UID:3142-1750093200-1750100400@fleetwayfun.com
SUMMARY:Kids Play Centre CLOSED from 5:00 – 7:00pm for Exclusive Booking
DESCRIPTION:Monday May 16th – Kids Play Centre CLOSED from 5:00 – 7:00pm for Exclusive Booking
URL:https://fleetwayfun.com/event/kids-play-centre-closed-from-500-700pm-for-exclusive-booking-81/
END:VEVENT
BEGIN:VEVENT
DTSTART;TZID=America/Toronto:20250617T170000
DTEND;TZID=America/Toronto:20250617T190000
DTSTAMP:20260424T040608
CREATED:20250501T181605Z
LAST-MODIFIED:20250501T181605Z
UID:3157-1750179600-1750186800@fleetwayfun.com
SUMMARY:Kids Play Centre CLOSED from 5:00 – 7:00pm for Exclusive Booking
DESCRIPTION:Tuesday June 17th – Kids Play Centre CLOSED from 5:00 – 7:00pm for Exclusive Booking
URL:https://fleetwayfun.com/event/kids-play-centre-closed-from-500-700pm-for-exclusive-booking-87/
END:VEVENT
BEGIN:VEVENT
DTSTART;TZID=America/Toronto:20250618T170000
DTEND;TZID=America/Toronto:20250618T190000
DTSTAMP:20260424T040608
CREATED:20250528T214724Z
LAST-MODIFIED:20250528T214724Z
UID:3202-1750266000-1750273200@fleetwayfun.com
SUMMARY:Kids Play Centre CLOSED from 5:00 – 7:00pm for Exclusive Booking
DESCRIPTION:Wednesday June 18th – Kids Play Centre CLOSED from 5:00 – 7:00pm for Exclusive Booking
URL:https://fleetwayfun.com/event/kids-play-centre-closed-from-500-700pm-for-exclusive-booking-100/
END:VEVENT
BEGIN:VEVENT
DTSTART;TZID=America/Toronto:20250623T170000
DTEND;TZID=America/Toronto:20250623T190000
DTSTAMP:20260424T040608
CREATED:20250507T211756Z
LAST-MODIFIED:20250507T211756Z
UID:3168-1750698000-1750705200@fleetwayfun.com
SUMMARY:Kids Play Centre CLOSED from 5:00 – 7:00pm for Exclusive Booking
DESCRIPTION:Monday June 23rd – Kids Play Centre CLOSED from 5:00 – 7:00pm for Exclusive Booking
URL:https://fleetwayfun.com/event/kids-play-centre-closed-from-500-700pm-for-exclusive-booking-92/
END:VEVENT
BEGIN:VEVENT
DTSTART;TZID=America/Toronto:20250624T170000
DTEND;TZID=America/Toronto:20250624T190000
DTSTAMP:20260424T040608
CREATED:20250513T151501Z
LAST-MODIFIED:20250513T151501Z
UID:3173-1750784400-1750791600@fleetwayfun.com
SUMMARY:Kids Play Centre CLOSED from 5:00 – 7:00pm for Exclusive Booking
DESCRIPTION:Tuesday June 24th – Kids Play Centre CLOSED from 5:00 – 7:00pm for Exclusive Booking
URL:https://fleetwayfun.com/event/kids-play-centre-closed-from-500-700pm-for-exclusive-booking-94/
END:VEVENT
BEGIN:VEVENT
DTSTART;TZID=America/Toronto:20250625T170000
DTEND;TZID=America/Toronto:20250625T190000
DTSTAMP:20260424T040608
CREATED:20250505T162102Z
LAST-MODIFIED:20250505T162102Z
UID:3159-1750870800-1750878000@fleetwayfun.com
SUMMARY:Kids Play Centre CLOSED from 5:00 – 7:00pm for Exclusive Booking
DESCRIPTION:Wednesday June 25th – Kids Play Centre CLOSED from 5:00 – 7:00pm for Exclusive Booking
URL:https://fleetwayfun.com/event/kids-play-centre-closed-from-500-700pm-for-exclusive-booking-88/
END:VEVENT
BEGIN:VEVENT
DTSTART;TZID=America/Toronto:20250626T170000
DTEND;TZID=America/Toronto:20250626T190000
DTSTAMP:20260424T040608
CREATED:20250421T221957Z
LAST-MODIFIED:20250421T221957Z
UID:3146-1750957200-1750964400@fleetwayfun.com
SUMMARY:Kids Play Centre CLOSED from 5:00 – 7:00pm for Exclusive Booking
DESCRIPTION:Thursday June 26th – Kids Play Centre CLOSED from 5:00 – 7:00pm for Exclusive Booking
URL:https://fleetwayfun.com/event/kids-play-centre-closed-from-500-700pm-for-exclusive-booking-83/
END:VEVENT
BEGIN:VEVENT
DTSTART;TZID=America/Toronto:20250630T170000
DTEND;TZID=America/Toronto:20250630T190000
DTSTAMP:20260424T040608
CREATED:20250416T202713Z
LAST-MODIFIED:20250416T202713Z
UID:3133-1751302800-1751310000@fleetwayfun.com
SUMMARY:Kids Play Centre CLOSED from 5:00 – 7:00pm for Exclusive Booking
DESCRIPTION:Monday June 30th – Kids Play Centre CLOSED from 5:00 – 7:00pm for Exclusive Booking
URL:https://fleetwayfun.com/event/kids-play-centre-closed-from-500-700pm-for-exclusive-booking-77/
END:VEVENT
END:VCALENDAR