BEGIN:VCALENDAR
VERSION:2.0
PRODID:-//Fleetway Fun - ECPv6.15.17.1//NONSGML v1.0//EN
CALSCALE:GREGORIAN
METHOD:PUBLISH
X-ORIGINAL-URL:https://fleetwayfun.com
X-WR-CALDESC:Events for Fleetway Fun
REFRESH-INTERVAL;VALUE=DURATION:PT1H
X-Robots-Tag:noindex
X-PUBLISHED-TTL:PT1H
BEGIN:VTIMEZONE
TZID:America/Toronto
BEGIN:DAYLIGHT
TZOFFSETFROM:-0500
TZOFFSETTO:-0400
TZNAME:EDT
DTSTART:20240310T070000
END:DAYLIGHT
BEGIN:STANDARD
TZOFFSETFROM:-0400
TZOFFSETTO:-0500
TZNAME:EST
DTSTART:20241103T060000
END:STANDARD
BEGIN:DAYLIGHT
TZOFFSETFROM:-0500
TZOFFSETTO:-0400
TZNAME:EDT
DTSTART:20250309T070000
END:DAYLIGHT
BEGIN:STANDARD
TZOFFSETFROM:-0400
TZOFFSETTO:-0500
TZNAME:EST
DTSTART:20251102T060000
END:STANDARD
BEGIN:DAYLIGHT
TZOFFSETFROM:-0500
TZOFFSETTO:-0400
TZNAME:EDT
DTSTART:20260308T070000
END:DAYLIGHT
BEGIN:STANDARD
TZOFFSETFROM:-0400
TZOFFSETTO:-0500
TZNAME:EST
DTSTART:20261101T060000
END:STANDARD
END:VTIMEZONE
BEGIN:VEVENT
DTSTART;TZID=America/Toronto:20250204T170000
DTEND;TZID=America/Toronto:20250204T190000
DTSTAMP:20260424T102948
CREATED:20241121T152445Z
LAST-MODIFIED:20241121T152445Z
UID:2905-1738688400-1738695600@fleetwayfun.com
SUMMARY:Kids Play Centre CLOSED from 5:00 - 7:00pm for Exclusive Booking
DESCRIPTION:Tuesday\, February 4\, 2024 – Kids Play Centre CLOSED from 5:00 – 7:00pm for Exclusive Booking
URL:https://fleetwayfun.com/event/kids-play-centre-closed-from-500-700pm-for-exclusive-booking-34/
END:VEVENT
BEGIN:VEVENT
DTSTART;TZID=America/Toronto:20250205T170000
DTEND;TZID=America/Toronto:20250205T190000
DTSTAMP:20260424T102948
CREATED:20241125T152938Z
LAST-MODIFIED:20241125T152938Z
UID:2909-1738774800-1738782000@fleetwayfun.com
SUMMARY:Kids Play Centre CLOSED from 5:00 - 7:00pm for Exclusive Booking
DESCRIPTION:Wednesday\, February 5\, 2025 – Kids Play Centre CLOSED from 5:00 – 7:00pm for Exclusive Booking
URL:https://fleetwayfun.com/event/kids-play-centre-closed-from-500-700pm-for-exclusive-booking-35/
END:VEVENT
BEGIN:VEVENT
DTSTART;TZID=America/Toronto:20250206T170000
DTEND;TZID=America/Toronto:20250206T190000
DTSTAMP:20260424T102948
CREATED:20250106T160739Z
LAST-MODIFIED:20250106T160739Z
UID:2976-1738861200-1738868400@fleetwayfun.com
SUMMARY:Kids Play Centre CLOSED from 5:00 - 7:00pm for Exclusive Booking
DESCRIPTION:Thursday\, February 6\, 2025 – Kids Play Centre CLOSED from 5:00 – 7:00pm for Exclusive Booking
URL:https://fleetwayfun.com/event/kids-play-centre-closed-from-500-700pm-for-exclusive-booking-20/
END:VEVENT
BEGIN:VEVENT
DTSTART;TZID=America/Toronto:20250210T170000
DTEND;TZID=America/Toronto:20250210T190000
DTSTAMP:20260424T102948
CREATED:20250106T170012Z
LAST-MODIFIED:20250106T170012Z
UID:2980-1739206800-1739214000@fleetwayfun.com
SUMMARY:Kids Play Centre CLOSED from 5:00 - 7:00pm for Exclusive Booking
DESCRIPTION:Monday\, February 10\, 2025 – Kids Play Centre CLOSED from 5:00 – 7:00pm for Exclusive Booking
URL:https://fleetwayfun.com/event/kids-play-centre-closed-from-500-700pm-for-exclusive-booking-23/
END:VEVENT
BEGIN:VEVENT
DTSTART;TZID=America/Toronto:20250211T170000
DTEND;TZID=America/Toronto:20250211T190000
DTSTAMP:20260424T102948
CREATED:20250109T180024Z
LAST-MODIFIED:20250109T180024Z
UID:2987-1739293200-1739300400@fleetwayfun.com
SUMMARY:Kids Play Centre CLOSED from 5:00 - 7:00pm for Exclusive Booking
DESCRIPTION:Tuesday\, February 11\, 2025 – Kids Play Centre CLOSED from 5:00 – 7:00pm for Exclusive Booking
URL:https://fleetwayfun.com/event/kids-play-centre-closed-from-500-700pm-for-exclusive-booking-26/
END:VEVENT
BEGIN:VEVENT
DTSTART;TZID=America/Toronto:20250212T170000
DTEND;TZID=America/Toronto:20250212T190000
DTSTAMP:20260424T102948
CREATED:20250109T185537Z
LAST-MODIFIED:20250109T185537Z
UID:2989-1739379600-1739386800@fleetwayfun.com
SUMMARY:Kids Play Centre CLOSED from 5:00 - 7:00pm for Exclusive Booking
DESCRIPTION:Wednesday\, February 12\, 2025 – Kids Play Centre CLOSED from 5:00 – 7:00pm for Exclusive Booking
URL:https://fleetwayfun.com/event/kids-play-centre-closed-from-500-700pm-for-exclusive-booking-27/
END:VEVENT
BEGIN:VEVENT
DTSTART;TZID=America/Toronto:20250213T170000
DTEND;TZID=America/Toronto:20250213T190000
DTSTAMP:20260424T102948
CREATED:20241210T154519Z
LAST-MODIFIED:20241210T154519Z
UID:2936-1739466000-1739473200@fleetwayfun.com
SUMMARY:Kids Play Centre CLOSED from 5:00 - 7:00pm for Exclusive Booking
DESCRIPTION:Thursday\, February 13\, 2025 – Kids Play Centre CLOSED from 5:00 – 7:00pm for Exclusive Booking
URL:https://fleetwayfun.com/event/kids-play-centre-closed-from-500-700pm-for-exclusive-booking-10/
END:VEVENT
BEGIN:VEVENT
DTSTART;TZID=America/Toronto:20250217T093000
DTEND;TZID=America/Toronto:20250217T210000
DTSTAMP:20260424T102948
CREATED:20241105T184107Z
LAST-MODIFIED:20241105T184107Z
UID:2882-1739784600-1739826000@fleetwayfun.com
SUMMARY:Family Day - Kids Play Centre OPEN 9:30am - 9:00pm
DESCRIPTION:Family Day\, Monday February 17\, 2025  – Kids Play Centre OPEN 9:30am – 9:00pm
URL:https://fleetwayfun.com/event/family-day-kids-play-centre-open-930am-900pm/
END:VEVENT
BEGIN:VEVENT
DTSTART;TZID=America/Toronto:20250218T170000
DTEND;TZID=America/Toronto:20250218T190000
DTSTAMP:20260424T102948
CREATED:20250106T162956Z
LAST-MODIFIED:20250106T162956Z
UID:2978-1739898000-1739905200@fleetwayfun.com
SUMMARY:Kids Play Centre CLOSED from 5:00 - 7:00pm for Exclusive Booking
DESCRIPTION:Tuesday\, February 18\, 2025 – Kids Play Centre CLOSED from 5:00 – 7:00pm for Exclusive Booking
URL:https://fleetwayfun.com/event/kids-play-centre-closed-from-500-700pm-for-exclusive-booking-21/
END:VEVENT
BEGIN:VEVENT
DTSTART;TZID=America/Toronto:20250219T170000
DTEND;TZID=America/Toronto:20250219T190000
DTSTAMP:20260424T102948
CREATED:20241220T201024Z
LAST-MODIFIED:20241220T201024Z
UID:2964-1739984400-1739991600@fleetwayfun.com
SUMMARY:Kids Play Centre CLOSED from 5:00 - 7:00pm for Exclusive Booking
DESCRIPTION:Wednesday\, February 19\, 2025 – Kids Play Centre CLOSED from 5:00 – 7:00pm for Exclusive Booking
URL:https://fleetwayfun.com/event/kids-play-centre-closed-from-500-700pm-for-exclusive-booking-19/
END:VEVENT
BEGIN:VEVENT
DTSTART;TZID=America/Toronto:20250220T170000
DTEND;TZID=America/Toronto:20250220T190000
DTSTAMP:20260424T102948
CREATED:20241220T154610Z
LAST-MODIFIED:20241220T154610Z
UID:2960-1740070800-1740078000@fleetwayfun.com
SUMMARY:Kids Play Centre CLOSED from 5:00 - 7:00pm for Exclusive Booking
DESCRIPTION:Thursday\, February 20\, 2025 – Kids Play Centre CLOSED from 5:00 – 7:00pm for Exclusive Booking
URL:https://fleetwayfun.com/event/kids-play-centre-closed-from-500-700pm-for-exclusive-booking-4/
END:VEVENT
BEGIN:VEVENT
DTSTART;TZID=America/Toronto:20250224T170000
DTEND;TZID=America/Toronto:20250224T190000
DTSTAMP:20260424T102948
CREATED:20250114T164916Z
LAST-MODIFIED:20250114T164916Z
UID:2993-1740416400-1740423600@fleetwayfun.com
SUMMARY:Kids Play Centre CLOSED from 5:00 - 7:00pm for Exclusive Booking
DESCRIPTION:Monday February 24th 2025 – Kids Play Centre CLOSED from 5:00 – 7:00pm for Exclusive Booking
URL:https://fleetwayfun.com/event/kids-play-centre-closed-from-500-700pm-for-exclusive-booking-29/
END:VEVENT
BEGIN:VEVENT
DTSTART;TZID=America/Toronto:20250225T170000
DTEND;TZID=America/Toronto:20250225T190000
DTSTAMP:20260424T102948
CREATED:20250106T154827Z
LAST-MODIFIED:20250106T154827Z
UID:2974-1740502800-1740510000@fleetwayfun.com
SUMMARY:Kids Play Centre CLOSED from 5:00 - 7:00pm for Exclusive Booking
DESCRIPTION:Tuesday\, February 25\, 2025 – Kids Play Centre CLOSED from 5:00 – 7:00pm for Exclusive Booking
URL:https://fleetwayfun.com/event/kids-play-centre-closed-from-500-700pm-for-exclusive-booking-16/
END:VEVENT
BEGIN:VEVENT
DTSTART;TZID=America/Toronto:20250227T170000
DTEND;TZID=America/Toronto:20250227T190000
DTSTAMP:20260424T102948
CREATED:20241113T160355Z
LAST-MODIFIED:20241113T160355Z
UID:2901-1740675600-1740682800@fleetwayfun.com
SUMMARY:Kids Play Centre CLOSED from 5:00 - 7:00pm for Exclusive Booking
DESCRIPTION:Thursday\, February 27\, 2025 – Kids Play Centre CLOSED from 5:00 – 7:00pm for Exclusive Booking
URL:https://fleetwayfun.com/event/kids-play-centre-closed-from-500-700pm-for-exclusive-booking-32/
END:VEVENT
BEGIN:VEVENT
DTSTART;TZID=America/Toronto:20250228T093000
DTEND;TZID=America/Toronto:20250228T123000
DTSTAMP:20260424T102948
CREATED:20241210T162228Z
LAST-MODIFIED:20241210T162228Z
UID:2941-1740735000-1740745800@fleetwayfun.com
SUMMARY:Kids Play Centre CLOSED from 9:30am - 12:30pm for Exclusive School Booking
DESCRIPTION:Friday\, February 28\, 2025 – Kids Play Centre CLOSED from 9:30am – 12:30pm for Exclusive School Booking
URL:https://fleetwayfun.com/event/kids-play-centre-closed-from-930am-1230pm-for-exclusive-school-booking/
END:VEVENT
END:VCALENDAR