BEGIN:VCALENDAR
VERSION:2.0
PRODID:-//Fleetway Fun - ECPv6.15.17.1//NONSGML v1.0//EN
CALSCALE:GREGORIAN
METHOD:PUBLISH
X-WR-CALNAME:Fleetway Fun
X-ORIGINAL-URL:https://fleetwayfun.com
X-WR-CALDESC:Events for Fleetway Fun
REFRESH-INTERVAL;VALUE=DURATION:PT1H
X-Robots-Tag:noindex
X-PUBLISHED-TTL:PT1H
BEGIN:VTIMEZONE
TZID:America/Toronto
BEGIN:DAYLIGHT
TZOFFSETFROM:-0500
TZOFFSETTO:-0400
TZNAME:EDT
DTSTART:20250309T070000
END:DAYLIGHT
BEGIN:STANDARD
TZOFFSETFROM:-0400
TZOFFSETTO:-0500
TZNAME:EST
DTSTART:20251102T060000
END:STANDARD
BEGIN:DAYLIGHT
TZOFFSETFROM:-0500
TZOFFSETTO:-0400
TZNAME:EDT
DTSTART:20260308T070000
END:DAYLIGHT
BEGIN:STANDARD
TZOFFSETFROM:-0400
TZOFFSETTO:-0500
TZNAME:EST
DTSTART:20261101T060000
END:STANDARD
BEGIN:DAYLIGHT
TZOFFSETFROM:-0500
TZOFFSETTO:-0400
TZNAME:EDT
DTSTART:20270314T070000
END:DAYLIGHT
BEGIN:STANDARD
TZOFFSETFROM:-0400
TZOFFSETTO:-0500
TZNAME:EST
DTSTART:20271107T060000
END:STANDARD
END:VTIMEZONE
BEGIN:VEVENT
DTSTART;TZID=America/Toronto:20260408T170000
DTEND;TZID=America/Toronto:20260408T190000
DTSTAMP:20260423T194332
CREATED:20260128T152200Z
LAST-MODIFIED:20260128T152200Z
UID:3780-1775667600-1775674800@fleetwayfun.com
SUMMARY:Kids Play Centre CLOSED from 5:00 – 7:00pm for Exclusive Booking
DESCRIPTION:
URL:https://fleetwayfun.com/event/kids-play-centre-closed-from-500-700pm-for-exclusive-booking-223/
END:VEVENT
BEGIN:VEVENT
DTSTART;TZID=America/Toronto:20260409T170000
DTEND;TZID=America/Toronto:20260409T190000
DTSTAMP:20260423T194332
CREATED:20251222T175715Z
LAST-MODIFIED:20251222T175715Z
UID:3691-1775754000-1775761200@fleetwayfun.com
SUMMARY:Kids Play Centre CLOSED from 5:00 – 7:00pm for Exclusive Booking
DESCRIPTION:
URL:https://fleetwayfun.com/event/kids-play-centre-closed-from-500-700pm-for-exclusive-booking-202/
END:VEVENT
BEGIN:VEVENT
DTSTART;TZID=America/Toronto:20260413T170000
DTEND;TZID=America/Toronto:20260413T190000
DTSTAMP:20260423T194332
CREATED:20260219T190838Z
LAST-MODIFIED:20260219T190838Z
UID:3832-1776099600-1776106800@fleetwayfun.com
SUMMARY:Kids Play Centre CLOSED from 5:00 – 7:00pm for Exclusive Booking
DESCRIPTION:
URL:https://fleetwayfun.com/event/kids-play-centre-closed-from-500-700pm-for-exclusive-booking-232/
END:VEVENT
BEGIN:VEVENT
DTSTART;TZID=America/Toronto:20260414T170000
DTEND;TZID=America/Toronto:20260414T190000
DTSTAMP:20260423T194333
CREATED:20260210T161733Z
LAST-MODIFIED:20260210T161733Z
UID:3793-1776186000-1776193200@fleetwayfun.com
SUMMARY:Kids Play Centre CLOSED from 5:00 – 7:00pm for Exclusive Booking
DESCRIPTION:
URL:https://fleetwayfun.com/event/kids-play-centre-closed-from-500-700pm-for-exclusive-booking-229/
END:VEVENT
BEGIN:VEVENT
DTSTART;TZID=America/Toronto:20260415T170000
DTEND;TZID=America/Toronto:20260415T190000
DTSTAMP:20260423T194333
CREATED:20260218T163859Z
LAST-MODIFIED:20260218T163859Z
UID:3797-1776272400-1776279600@fleetwayfun.com
SUMMARY:Kids Play Centre CLOSED from 5:00 – 7:00pm for Exclusive Booking
DESCRIPTION:
URL:https://fleetwayfun.com/event/kids-play-centre-closed-from-500-700pm-for-exclusive-booking-231/
END:VEVENT
BEGIN:VEVENT
DTSTART;TZID=America/Toronto:20260416T170000
DTEND;TZID=America/Toronto:20260416T190000
DTSTAMP:20260423T194333
CREATED:20260213T163829Z
LAST-MODIFIED:20260213T163829Z
UID:3795-1776358800-1776366000@fleetwayfun.com
SUMMARY:Kids Play Centre CLOSED from 5:00 – 7:00pm for Exclusive Booking
DESCRIPTION:
URL:https://fleetwayfun.com/event/kids-play-centre-closed-from-500-700pm-for-exclusive-booking-230/
END:VEVENT
BEGIN:VEVENT
DTSTART;TZID=America/Toronto:20260420T170000
DTEND;TZID=America/Toronto:20260420T190000
DTSTAMP:20260423T194333
CREATED:20260302T174154Z
LAST-MODIFIED:20260302T174154Z
UID:3838-1776704400-1776711600@fleetwayfun.com
SUMMARY:Kids Play Centre CLOSED from 5:00 – 7:00pm for Exclusive Booking
DESCRIPTION:
URL:https://fleetwayfun.com/event/kids-play-centre-closed-from-500-700pm-for-exclusive-booking-235/
END:VEVENT
BEGIN:VEVENT
DTSTART;TZID=America/Toronto:20260421T170000
DTEND;TZID=America/Toronto:20260421T190000
DTSTAMP:20260423T194333
CREATED:20260303T024331Z
LAST-MODIFIED:20260303T024331Z
UID:3840-1776790800-1776798000@fleetwayfun.com
SUMMARY:Kids Play Centre CLOSED from 5:00 – 7:00pm for Exclusive Booking
DESCRIPTION:
URL:https://fleetwayfun.com/event/kids-play-centre-closed-from-500-700pm-for-exclusive-booking-236/
END:VEVENT
BEGIN:VEVENT
DTSTART;TZID=America/Toronto:20260422T170000
DTEND;TZID=America/Toronto:20260422T190000
DTSTAMP:20260423T194333
CREATED:20260129T163525Z
LAST-MODIFIED:20260129T163525Z
UID:3782-1776877200-1776884400@fleetwayfun.com
SUMMARY:Kids Play Centre CLOSED from 5:00 – 7:00pm for Exclusive Booking
DESCRIPTION:
URL:https://fleetwayfun.com/event/kids-play-centre-closed-from-500-700pm-for-exclusive-booking-224/
END:VEVENT
BEGIN:VEVENT
DTSTART;TZID=America/Toronto:20260427T170000
DTEND;TZID=America/Toronto:20260427T190000
DTSTAMP:20260423T194333
CREATED:20260202T195543Z
LAST-MODIFIED:20260202T195543Z
UID:3787-1777309200-1777316400@fleetwayfun.com
SUMMARY:Kids Play Centre CLOSED from 5:00 – 7:00pm for Exclusive Booking
DESCRIPTION:
URL:https://fleetwayfun.com/event/kids-play-centre-closed-from-500-700pm-for-exclusive-booking-226/
END:VEVENT
BEGIN:VEVENT
DTSTART;TZID=America/Toronto:20260428T170000
DTEND;TZID=America/Toronto:20260428T190000
DTSTAMP:20260423T194333
CREATED:20260206T193858Z
LAST-MODIFIED:20260206T193858Z
UID:3791-1777395600-1777402800@fleetwayfun.com
SUMMARY:Kids Play Centre CLOSED from 5:00 – 7:00pm for Exclusive Booking
DESCRIPTION:
URL:https://fleetwayfun.com/event/kids-play-centre-closed-from-500-700pm-for-exclusive-booking-228/
END:VEVENT
BEGIN:VEVENT
DTSTART;TZID=America/Toronto:20260429T170000
DTEND;TZID=America/Toronto:20260429T190000
DTSTAMP:20260423T194333
CREATED:20260203T154012Z
LAST-MODIFIED:20260203T154012Z
UID:3789-1777482000-1777489200@fleetwayfun.com
SUMMARY:Kids Play Centre CLOSED from 5:00 – 7:00pm for Exclusive Booking
DESCRIPTION:
URL:https://fleetwayfun.com/event/kids-play-centre-closed-from-500-700pm-for-exclusive-booking-227/
END:VEVENT
BEGIN:VEVENT
DTSTART;TZID=America/Toronto:20260430T170000
DTEND;TZID=America/Toronto:20260430T190000
DTSTAMP:20260423T194333
CREATED:20260224T193843Z
LAST-MODIFIED:20260224T193843Z
UID:3836-1777568400-1777575600@fleetwayfun.com
SUMMARY:Kids Play Centre CLOSED from 5:00 – 7:00pm for Exclusive Booking
DESCRIPTION:
URL:https://fleetwayfun.com/event/kids-play-centre-closed-from-500-700pm-for-exclusive-booking-234/
END:VEVENT
BEGIN:VEVENT
DTSTART;TZID=America/Toronto:20260504T170000
DTEND;TZID=America/Toronto:20260504T190000
DTSTAMP:20260423T194333
CREATED:20260305T200412Z
LAST-MODIFIED:20260305T200412Z
UID:3855-1777914000-1777921200@fleetwayfun.com
SUMMARY:Kids Play Centre CLOSED from 5:00 – 7:00pm for Exclusive Booking
DESCRIPTION:
URL:https://fleetwayfun.com/event/kids-play-centre-closed-from-500-700pm-for-exclusive-booking-239/
END:VEVENT
BEGIN:VEVENT
DTSTART;TZID=America/Toronto:20260505T170000
DTEND;TZID=America/Toronto:20260505T190000
DTSTAMP:20260423T194333
CREATED:20260313T195632Z
LAST-MODIFIED:20260313T195632Z
UID:3864-1778000400-1778007600@fleetwayfun.com
SUMMARY:Kids Play Centre CLOSED from 5:00 – 7:00pm for Exclusive Booking
DESCRIPTION:
URL:https://fleetwayfun.com/event/kids-play-centre-closed-from-500-700pm-for-exclusive-booking-240/
END:VEVENT
BEGIN:VEVENT
DTSTART;TZID=America/Toronto:20260506T170000
DTEND;TZID=America/Toronto:20260506T190000
DTSTAMP:20260423T194333
CREATED:20260305T170849Z
LAST-MODIFIED:20260305T170849Z
UID:3853-1778086800-1778094000@fleetwayfun.com
SUMMARY:Kids Play Centre CLOSED from 5:00 – 7:00pm for Exclusive Booking
DESCRIPTION:
URL:https://fleetwayfun.com/event/kids-play-centre-closed-from-500-700pm-for-exclusive-booking-238/
END:VEVENT
BEGIN:VEVENT
DTSTART;TZID=America/Toronto:20260507T170000
DTEND;TZID=America/Toronto:20260507T190000
DTSTAMP:20260423T194333
CREATED:20260317T190638Z
LAST-MODIFIED:20260317T190638Z
UID:3868-1778173200-1778180400@fleetwayfun.com
SUMMARY:Kids Play Centre CLOSED from 5:00 – 7:00pm for Exclusive Booking
DESCRIPTION:
URL:https://fleetwayfun.com/event/kids-play-centre-closed-from-500-700pm-for-exclusive-booking-221/
END:VEVENT
BEGIN:VEVENT
DTSTART;TZID=America/Toronto:20260511T093000
DTEND;TZID=America/Toronto:20260511T230000
DTSTAMP:20260423T194333
CREATED:20260323T144223Z
LAST-MODIFIED:20260327T143331Z
UID:3882-1778491800-1778540400@fleetwayfun.com
SUMMARY:CLOSED
DESCRIPTION:
URL:https://fleetwayfun.com/event/kids-play-centre-closed-from-500-700pm-for-exclusive-booking-247/
END:VEVENT
BEGIN:VEVENT
DTSTART;TZID=America/Toronto:20260512T170000
DTEND;TZID=America/Toronto:20260512T190000
DTSTAMP:20260423T194333
CREATED:20260318T180956Z
LAST-MODIFIED:20260318T180956Z
UID:3874-1778605200-1778612400@fleetwayfun.com
SUMMARY:Kids Play Centre CLOSED from 5:00 – 7:00pm for Exclusive Booking
DESCRIPTION:
URL:https://fleetwayfun.com/event/kids-play-centre-closed-from-500-700pm-for-exclusive-booking-244/
END:VEVENT
BEGIN:VEVENT
DTSTART;TZID=America/Toronto:20260513T170000
DTEND;TZID=America/Toronto:20260513T190000
DTSTAMP:20260423T194333
CREATED:20260409T142309Z
LAST-MODIFIED:20260409T142309Z
UID:3905-1778691600-1778698800@fleetwayfun.com
SUMMARY:Kids Play Centre CLOSED from 5:00 – 7:00pm for Exclusive Booking
DESCRIPTION:
URL:https://fleetwayfun.com/event/kids-play-centre-closed-from-500-700pm-for-exclusive-booking-144/
END:VEVENT
BEGIN:VEVENT
DTSTART;TZID=America/Toronto:20260514T170000
DTEND;TZID=America/Toronto:20260514T190000
DTSTAMP:20260423T194333
CREATED:20260331T183153Z
LAST-MODIFIED:20260331T183153Z
UID:3895-1778778000-1778785200@fleetwayfun.com
SUMMARY:Kids Play Centre CLOSED from 5:00 – 7:00pm for Exclusive Booking
DESCRIPTION:
URL:https://fleetwayfun.com/event/kids-play-centre-closed-from-500-700pm-for-exclusive-booking-249/
END:VEVENT
BEGIN:VEVENT
DTSTART;TZID=America/Toronto:20260518T093000
DTEND;TZID=America/Toronto:20260518T230000
DTSTAMP:20260423T194333
CREATED:20260218T203927Z
LAST-MODIFIED:20260218T210558Z
UID:3799-1779096600-1779145200@fleetwayfun.com
SUMMARY:OPEN - NO Exclusive Available
DESCRIPTION:
URL:https://fleetwayfun.com/event/kids-play-centre-open-from-500-700pm-no-exclusive-booking/
END:VEVENT
BEGIN:VEVENT
DTSTART;TZID=America/Toronto:20260519T170000
DTEND;TZID=America/Toronto:20260519T190000
DTSTAMP:20260423T194333
CREATED:20260417T200506Z
LAST-MODIFIED:20260417T200506Z
UID:3921-1779210000-1779217200@fleetwayfun.com
SUMMARY:Kids Play Centre CLOSED from 5:00 – 7:00pm for Exclusive Booking
DESCRIPTION:
URL:https://fleetwayfun.com/event/kids-play-centre-closed-from-500-700pm-for-exclusive-booking-257/
END:VEVENT
BEGIN:VEVENT
DTSTART;TZID=America/Toronto:20260520T170000
DTEND;TZID=America/Toronto:20260520T190000
DTSTAMP:20260423T194333
CREATED:20260330T143644Z
LAST-MODIFIED:20260330T160813Z
UID:3892-1779296400-1779303600@fleetwayfun.com
SUMMARY:Kids Play Centre CLOSED from 5:00 – 7:00pm for Exclusive Booking
DESCRIPTION:
URL:https://fleetwayfun.com/event/kids-play-centre-closed-from-500-700pm-for-exclusive-booking-250/
END:VEVENT
BEGIN:VEVENT
DTSTART;TZID=America/Toronto:20260521T170000
DTEND;TZID=America/Toronto:20260521T190000
DTSTAMP:20260423T194333
CREATED:20251117T171723Z
LAST-MODIFIED:20251117T171723Z
UID:3557-1779382800-1779390000@fleetwayfun.com
SUMMARY:Kids Play Centre CLOSED from 5:00 – 7:00pm for Exclusive Booking
DESCRIPTION:
URL:https://fleetwayfun.com/event/kids-play-centre-closed-from-500-700pm-for-exclusive-booking-181/
END:VEVENT
BEGIN:VEVENT
DTSTART;TZID=America/Toronto:20260525T170000
DTEND;TZID=America/Toronto:20260525T190000
DTSTAMP:20260423T194333
CREATED:20260305T160859Z
LAST-MODIFIED:20260305T160859Z
UID:3851-1779728400-1779735600@fleetwayfun.com
SUMMARY:Kids Play Centre CLOSED from 5:00 – 7:00pm for Exclusive Booking
DESCRIPTION:
URL:https://fleetwayfun.com/event/kids-play-centre-closed-from-500-700pm-for-exclusive-booking-237/
END:VEVENT
BEGIN:VEVENT
DTSTART;TZID=America/Toronto:20260526T170000
DTEND;TZID=America/Toronto:20260526T190000
DTSTAMP:20260423T194333
CREATED:20260320T181810Z
LAST-MODIFIED:20260320T181810Z
UID:3878-1779814800-1779822000@fleetwayfun.com
SUMMARY:Kids Play Centre CLOSED from 5:00 – 7:00pm for Exclusive Booking
DESCRIPTION:
URL:https://fleetwayfun.com/event/kids-play-centre-closed-from-500-700pm-for-exclusive-booking-245/
END:VEVENT
BEGIN:VEVENT
DTSTART;TZID=America/Toronto:20260527T170000
DTEND;TZID=America/Toronto:20260527T190000
DTSTAMP:20260423T194333
CREATED:20260413T183905Z
LAST-MODIFIED:20260413T183905Z
UID:3910-1779901200-1779908400@fleetwayfun.com
SUMMARY:Kids Play Centre CLOSED from 5:00 – 7:00pm for Exclusive Booking
DESCRIPTION:
URL:https://fleetwayfun.com/event/kids-play-centre-closed-from-500-700pm-for-exclusive-booking-255/
END:VEVENT
BEGIN:VEVENT
DTSTART;TZID=America/Toronto:20260528T170000
DTEND;TZID=America/Toronto:20260528T190000
DTSTAMP:20260423T194333
CREATED:20251219T201456Z
LAST-MODIFIED:20251219T201456Z
UID:3687-1779987600-1779994800@fleetwayfun.com
SUMMARY:Kids Play Centre CLOSED from 5:00 – 7:00pm for Exclusive Booking
DESCRIPTION:
URL:https://fleetwayfun.com/event/kids-play-centre-closed-from-500-700pm-for-exclusive-booking-200/
END:VEVENT
BEGIN:VEVENT
DTSTART;TZID=America/Toronto:20260601T170000
DTEND;TZID=America/Toronto:20260601T190000
DTSTAMP:20260423T194333
CREATED:20260224T193428Z
LAST-MODIFIED:20260224T193428Z
UID:3834-1780333200-1780340400@fleetwayfun.com
SUMMARY:Kids Play Centre CLOSED from 5:00 – 7:00pm for Exclusive Booking
DESCRIPTION:
URL:https://fleetwayfun.com/event/kids-play-centre-closed-from-500-700pm-for-exclusive-booking-233/
END:VEVENT
END:VCALENDAR