BEGIN:VCALENDAR
VERSION:2.0
PRODID:-//Fleetway Fun - ECPv6.15.17.1//NONSGML v1.0//EN
CALSCALE:GREGORIAN
METHOD:PUBLISH
X-WR-CALNAME:Fleetway Fun
X-ORIGINAL-URL:https://fleetwayfun.com
X-WR-CALDESC:Events for Fleetway Fun
REFRESH-INTERVAL;VALUE=DURATION:PT1H
X-Robots-Tag:noindex
X-PUBLISHED-TTL:PT1H
BEGIN:VTIMEZONE
TZID:America/Toronto
BEGIN:DAYLIGHT
TZOFFSETFROM:-0500
TZOFFSETTO:-0400
TZNAME:EDT
DTSTART:20250309T070000
END:DAYLIGHT
BEGIN:STANDARD
TZOFFSETFROM:-0400
TZOFFSETTO:-0500
TZNAME:EST
DTSTART:20251102T060000
END:STANDARD
BEGIN:DAYLIGHT
TZOFFSETFROM:-0500
TZOFFSETTO:-0400
TZNAME:EDT
DTSTART:20260308T070000
END:DAYLIGHT
BEGIN:STANDARD
TZOFFSETFROM:-0400
TZOFFSETTO:-0500
TZNAME:EST
DTSTART:20261101T060000
END:STANDARD
BEGIN:DAYLIGHT
TZOFFSETFROM:-0500
TZOFFSETTO:-0400
TZNAME:EDT
DTSTART:20270314T070000
END:DAYLIGHT
BEGIN:STANDARD
TZOFFSETFROM:-0400
TZOFFSETTO:-0500
TZNAME:EST
DTSTART:20271107T060000
END:STANDARD
END:VTIMEZONE
BEGIN:VEVENT
DTSTART;TZID=America/Toronto:20260211T170000
DTEND;TZID=America/Toronto:20260211T190000
DTSTAMP:20260423T175930
CREATED:20251219T191514Z
LAST-MODIFIED:20251219T191514Z
UID:3685-1770829200-1770836400@fleetwayfun.com
SUMMARY:Kids Play Centre CLOSED from 5:00 – 7:00pm for Exclusive Booking
DESCRIPTION:
URL:https://fleetwayfun.com/event/kids-play-centre-closed-from-500-700pm-for-exclusive-booking-197/
END:VEVENT
BEGIN:VEVENT
DTSTART;TZID=America/Toronto:20260212T170000
DTEND;TZID=America/Toronto:20260212T190000
DTSTAMP:20260423T175930
CREATED:20251222T153830Z
LAST-MODIFIED:20251222T153830Z
UID:3689-1770915600-1770922800@fleetwayfun.com
SUMMARY:Kids Play Centre CLOSED from 5:00 – 7:00pm for Exclusive Booking
DESCRIPTION:
URL:https://fleetwayfun.com/event/kids-play-centre-closed-from-500-700pm-for-exclusive-booking-201/
END:VEVENT
BEGIN:VEVENT
DTSTART;TZID=America/Toronto:20260216T170000
DTEND;TZID=America/Toronto:20260216T190000
DTSTAMP:20260423T175930
CREATED:20260116T151912Z
LAST-MODIFIED:20260116T151912Z
UID:3757-1771261200-1771268400@fleetwayfun.com
SUMMARY:Kids Play Centre OPEN - No Exclusives Available
DESCRIPTION:
URL:https://fleetwayfun.com/event/kids-play-centre-open-no-exclusives-available/
END:VEVENT
BEGIN:VEVENT
DTSTART;TZID=America/Toronto:20260217T170000
DTEND;TZID=America/Toronto:20260217T190000
DTSTAMP:20260423T175930
CREATED:20260119T152857Z
LAST-MODIFIED:20260119T152857Z
UID:3759-1771347600-1771354800@fleetwayfun.com
SUMMARY:Kids Play Centre CLOSED from 5:00 – 7:00pm for Exclusive Booking
DESCRIPTION:
URL:https://fleetwayfun.com/event/kids-play-centre-closed-from-500-700pm-for-exclusive-booking-216/
END:VEVENT
BEGIN:VEVENT
DTSTART;TZID=America/Toronto:20260218T170000
DTEND;TZID=America/Toronto:20260218T190000
DTSTAMP:20260423T175930
CREATED:20251229T182601Z
LAST-MODIFIED:20251229T182601Z
UID:3700-1771434000-1771441200@fleetwayfun.com
SUMMARY:Kids Play Centre CLOSED from 5:00 – 7:00pm for Exclusive Booking
DESCRIPTION:
URL:https://fleetwayfun.com/event/kids-play-centre-closed-from-500-700pm-for-exclusive-booking-195/
END:VEVENT
BEGIN:VEVENT
DTSTART;TZID=America/Toronto:20260219T170000
DTEND;TZID=America/Toronto:20260219T190000
DTSTAMP:20260423T175930
CREATED:20251209T152541Z
LAST-MODIFIED:20251209T152541Z
UID:3665-1771520400-1771527600@fleetwayfun.com
SUMMARY:Kids Play Centre CLOSED from 5:00 – 7:00pm for Exclusive Booking
DESCRIPTION:
URL:https://fleetwayfun.com/event/kids-play-centre-closed-from-500-700pm-for-exclusive-booking-194/
END:VEVENT
BEGIN:VEVENT
DTSTART;TZID=America/Toronto:20260223T170000
DTEND;TZID=America/Toronto:20260223T190000
DTSTAMP:20260423T175930
CREATED:20260113T195745Z
LAST-MODIFIED:20260113T195745Z
UID:3749-1771866000-1771873200@fleetwayfun.com
SUMMARY:Kids Play Centre CLOSED from 5:00 – 7:00pm for Exclusive Booking
DESCRIPTION:
URL:https://fleetwayfun.com/event/kids-play-centre-closed-from-500-700pm-for-exclusive-booking-208/
END:VEVENT
BEGIN:VEVENT
DTSTART;TZID=America/Toronto:20260224T170000
DTEND;TZID=America/Toronto:20260224T190000
DTSTAMP:20260423T175930
CREATED:20260105T153024Z
LAST-MODIFIED:20260105T153024Z
UID:3708-1771952400-1771959600@fleetwayfun.com
SUMMARY:Kids Play Centre CLOSED from 5:00 – 7:00pm for Exclusive Booking
DESCRIPTION:
URL:https://fleetwayfun.com/event/kids-play-centre-closed-from-500-700pm-for-exclusive-booking-187/
END:VEVENT
BEGIN:VEVENT
DTSTART;TZID=America/Toronto:20260225T170000
DTEND;TZID=America/Toronto:20260225T190000
DTSTAMP:20260423T175930
CREATED:20260106T215446Z
LAST-MODIFIED:20260106T215446Z
UID:3717-1772038800-1772046000@fleetwayfun.com
SUMMARY:Kids Play Centre CLOSED from 5:00 – 7:00pm for Exclusive Booking
DESCRIPTION:
URL:https://fleetwayfun.com/event/kids-play-centre-closed-from-500-700pm-for-exclusive-booking-207/
END:VEVENT
BEGIN:VEVENT
DTSTART;TZID=America/Toronto:20260226T170000
DTEND;TZID=America/Toronto:20260226T190000
DTSTAMP:20260423T175930
CREATED:20260123T181936Z
LAST-MODIFIED:20260123T181937Z
UID:3771-1772125200-1772132400@fleetwayfun.com
SUMMARY:Kids Play Centre CLOSED from 5:00 – 7:00pm for Exclusive Booking
DESCRIPTION:
URL:https://fleetwayfun.com/event/kids-play-centre-closed-from-500-700pm-for-exclusive-booking-220/
END:VEVENT
BEGIN:VEVENT
DTSTART;TZID=America/Toronto:20260302T170000
DTEND;TZID=America/Toronto:20260302T190000
DTSTAMP:20260423T175930
CREATED:20260120T173233Z
LAST-MODIFIED:20260120T173233Z
UID:3761-1772470800-1772478000@fleetwayfun.com
SUMMARY:Kids Play Centre CLOSED from 5:00 – 7:00pm for Exclusive Booking
DESCRIPTION:
URL:https://fleetwayfun.com/event/kids-play-centre-closed-from-500-700pm-for-exclusive-booking-217/
END:VEVENT
BEGIN:VEVENT
DTSTART;TZID=America/Toronto:20260303T170000
DTEND;TZID=America/Toronto:20260303T190000
DTSTAMP:20260423T175930
CREATED:20260121T163411Z
LAST-MODIFIED:20260121T163411Z
UID:3764-1772557200-1772564400@fleetwayfun.com
SUMMARY:Kids Play Centre CLOSED from 5:00 – 7:00pm for Exclusive Booking
DESCRIPTION:
URL:https://fleetwayfun.com/event/kids-play-centre-closed-from-500-700pm-for-exclusive-booking-191/
END:VEVENT
BEGIN:VEVENT
DTSTART;TZID=America/Toronto:20260304T170000
DTEND;TZID=America/Toronto:20260304T190000
DTSTAMP:20260423T175930
CREATED:20260112T200152Z
LAST-MODIFIED:20260112T200152Z
UID:3743-1772643600-1772650800@fleetwayfun.com
SUMMARY:Kids Play Centre CLOSED from 5:00 – 7:00pm for Exclusive Booking
DESCRIPTION:
URL:https://fleetwayfun.com/event/kids-play-centre-closed-from-500-700pm-for-exclusive-booking-213/
END:VEVENT
BEGIN:VEVENT
DTSTART;TZID=America/Toronto:20260305T170000
DTEND;TZID=America/Toronto:20260305T190000
DTSTAMP:20260423T175930
CREATED:20260112T174006Z
LAST-MODIFIED:20260112T174006Z
UID:3741-1772730000-1772737200@fleetwayfun.com
SUMMARY:Kids Play Centre CLOSED from 5:00 – 7:00pm for Exclusive Booking
DESCRIPTION:
URL:https://fleetwayfun.com/event/kids-play-centre-closed-from-500-700pm-for-exclusive-booking-212/
END:VEVENT
BEGIN:VEVENT
DTSTART;TZID=America/Toronto:20260309T170000
DTEND;TZID=America/Toronto:20260309T190000
DTSTAMP:20260423T175930
CREATED:20260114T173435Z
LAST-MODIFIED:20260114T173435Z
UID:3751-1773075600-1773082800@fleetwayfun.com
SUMMARY:Kids Play Centre CLOSED from 5:00 – 7:00pm for Exclusive Booking
DESCRIPTION:
URL:https://fleetwayfun.com/event/kids-play-centre-closed-from-500-700pm-for-exclusive-booking-215/
END:VEVENT
BEGIN:VEVENT
DTSTART;TZID=America/Toronto:20260310T170000
DTEND;TZID=America/Toronto:20260310T190000
DTSTAMP:20260423T175930
CREATED:20260109T174024Z
LAST-MODIFIED:20260109T174024Z
UID:3733-1773162000-1773169200@fleetwayfun.com
SUMMARY:Kids Play Centre CLOSED from 5:00 – 7:00pm for Exclusive Booking
DESCRIPTION:
URL:https://fleetwayfun.com/event/kids-play-centre-closed-from-500-700pm-for-exclusive-booking-206/
END:VEVENT
BEGIN:VEVENT
DTSTART;TZID=America/Toronto:20260311T170000
DTEND;TZID=America/Toronto:20260311T190000
DTSTAMP:20260423T175930
CREATED:20251229T183131Z
LAST-MODIFIED:20251229T183131Z
UID:3702-1773248400-1773255600@fleetwayfun.com
SUMMARY:Kids Play Centre CLOSED from 5:00 – 7:00pm for Exclusive Booking
DESCRIPTION:
URL:https://fleetwayfun.com/event/kids-play-centre-closed-from-500-700pm-for-exclusive-booking-203/
END:VEVENT
BEGIN:VEVENT
DTSTART;TZID=America/Toronto:20260312T093000
DTEND;TZID=America/Toronto:20260312T160000
DTSTAMP:20260423T175930
CREATED:20260304T160323Z
LAST-MODIFIED:20260304T160323Z
UID:3843-1773307800-1773331200@fleetwayfun.com
SUMMARY:Kids Play Centre CLOSED for Cleaning
DESCRIPTION:
URL:https://fleetwayfun.com/event/kids-play-centre-closed-for-cleaning/
END:VEVENT
BEGIN:VEVENT
DTSTART;TZID=America/Toronto:20260312T170000
DTEND;TZID=America/Toronto:20260312T190000
DTSTAMP:20260423T175930
CREATED:20260106T220134Z
LAST-MODIFIED:20260106T220134Z
UID:3721-1773334800-1773342000@fleetwayfun.com
SUMMARY:Kids Play Centre CLOSED from 5:00 – 7:00pm for Exclusive Booking
DESCRIPTION:
URL:https://fleetwayfun.com/event/kids-play-centre-closed-from-500-700pm-for-exclusive-booking-209/
END:VEVENT
BEGIN:VEVENT
DTSTART;TZID=America/Toronto:20260313T093000
DTEND;TZID=America/Toronto:20260313T160000
DTSTAMP:20260423T175930
CREATED:20260304T160406Z
LAST-MODIFIED:20260304T160406Z
UID:3845-1773394200-1773417600@fleetwayfun.com
SUMMARY:Kids Play Centre CLOSED for Cleaning
DESCRIPTION:
URL:https://fleetwayfun.com/event/kids-play-centre-closed-for-cleaning-2/
END:VEVENT
BEGIN:VEVENT
DTSTART;TZID=America/Toronto:20260316T170000
DTEND;TZID=America/Toronto:20260316T190000
DTSTAMP:20260423T175930
CREATED:20260108T151301Z
LAST-MODIFIED:20260108T151301Z
UID:3731-1773680400-1773687600@fleetwayfun.com
SUMMARY:OPEN - No Exclusives Available
DESCRIPTION:
URL:https://fleetwayfun.com/event/open-no-exclusives-available-9/
END:VEVENT
BEGIN:VEVENT
DTSTART;TZID=America/Toronto:20260317T170000
DTEND;TZID=America/Toronto:20260317T190000
DTSTAMP:20260423T175930
CREATED:20260108T151104Z
LAST-MODIFIED:20260108T151104Z
UID:3725-1773766800-1773774000@fleetwayfun.com
SUMMARY:OPEN - No Exclusives Available
DESCRIPTION:
URL:https://fleetwayfun.com/event/open-no-exclusives-available-6/
END:VEVENT
BEGIN:VEVENT
DTSTART;TZID=America/Toronto:20260318T170000
DTEND;TZID=America/Toronto:20260318T190000
DTSTAMP:20260423T175930
CREATED:20260108T151151Z
LAST-MODIFIED:20260108T151151Z
UID:3727-1773853200-1773860400@fleetwayfun.com
SUMMARY:OPEN - No Exclusives Available
DESCRIPTION:
URL:https://fleetwayfun.com/event/open-no-exclusives-available-7/
END:VEVENT
BEGIN:VEVENT
DTSTART;TZID=America/Toronto:20260319T170000
DTEND;TZID=America/Toronto:20260319T190000
DTSTAMP:20260423T175930
CREATED:20260108T151227Z
LAST-MODIFIED:20260108T151227Z
UID:3729-1773939600-1773946800@fleetwayfun.com
SUMMARY:OPEN - No Exclusives Available
DESCRIPTION:
URL:https://fleetwayfun.com/event/open-no-exclusives-available-8/
END:VEVENT
BEGIN:VEVENT
DTSTART;TZID=America/Toronto:20260323T170000
DTEND;TZID=America/Toronto:20260323T190000
DTSTAMP:20260423T175930
CREATED:20260113T195328Z
LAST-MODIFIED:20260113T195328Z
UID:3745-1774285200-1774292400@fleetwayfun.com
SUMMARY:Kids Play Centre CLOSED from 5:00 – 7:00pm for Exclusive Booking
DESCRIPTION:
URL:https://fleetwayfun.com/event/kids-play-centre-closed-from-500-700pm-for-exclusive-booking-214/
END:VEVENT
BEGIN:VEVENT
DTSTART;TZID=America/Toronto:20260324T170000
DTEND;TZID=America/Toronto:20260324T190000
DTSTAMP:20260423T175930
CREATED:20260122T143717Z
LAST-MODIFIED:20260122T143717Z
UID:3768-1774371600-1774378800@fleetwayfun.com
SUMMARY:Kids Play Centre CLOSED from 5:00 – 7:00pm for Exclusive Booking
DESCRIPTION:
URL:https://fleetwayfun.com/event/kids-play-centre-closed-from-500-700pm-for-exclusive-booking-219/
END:VEVENT
BEGIN:VEVENT
DTSTART;TZID=America/Toronto:20260325T170000
DTEND;TZID=America/Toronto:20260325T190000
DTSTAMP:20260423T175930
CREATED:20260107T163839Z
LAST-MODIFIED:20260107T163839Z
UID:3723-1774458000-1774465200@fleetwayfun.com
SUMMARY:Kids Play Centre CLOSED from 5:00 – 7:00pm for Exclusive Booking
DESCRIPTION:
URL:https://fleetwayfun.com/event/kids-play-centre-closed-from-500-700pm-for-exclusive-booking-205/
END:VEVENT
BEGIN:VEVENT
DTSTART;TZID=America/Toronto:20260326T170000
DTEND;TZID=America/Toronto:20260326T190000
DTSTAMP:20260423T175930
CREATED:20260112T172007Z
LAST-MODIFIED:20260112T172007Z
UID:3739-1774544400-1774551600@fleetwayfun.com
SUMMARY:Kids Play Centre CLOSED from 5:00 – 7:00pm for Exclusive Booking
DESCRIPTION:
URL:https://fleetwayfun.com/event/kids-play-centre-closed-from-500-700pm-for-exclusive-booking-211/
END:VEVENT
BEGIN:VEVENT
DTSTART;TZID=America/Toronto:20260330T170000
DTEND;TZID=America/Toronto:20260330T190000
DTSTAMP:20260423T175930
CREATED:20260123T201533Z
LAST-MODIFIED:20260123T201533Z
UID:3775-1774890000-1774897200@fleetwayfun.com
SUMMARY:Kids Play Centre CLOSED from 5:00 – 7:00pm for Exclusive Booking
DESCRIPTION:
URL:https://fleetwayfun.com/event/kids-play-centre-closed-from-500-700pm-for-exclusive-booking-222/
END:VEVENT
BEGIN:VEVENT
DTSTART;TZID=America/Toronto:20260331T170000
DTEND;TZID=America/Toronto:20260331T190000
DTSTAMP:20260423T175930
CREATED:20260126T192849Z
LAST-MODIFIED:20260126T192849Z
UID:3778-1774976400-1774983600@fleetwayfun.com
SUMMARY:Kids Play Centre CLOSED from 5:00 – 7:00pm for Exclusive Booking
DESCRIPTION:
URL:https://fleetwayfun.com/event/kids-play-centre-closed-from-500-700pm-for-exclusive-booking-156/
END:VEVENT
END:VCALENDAR