BEGIN:VCALENDAR
VERSION:2.0
PRODID:-//Fleetway Fun - ECPv6.15.17.1//NONSGML v1.0//EN
CALSCALE:GREGORIAN
METHOD:PUBLISH
X-ORIGINAL-URL:https://fleetwayfun.com
X-WR-CALDESC:Events for Fleetway Fun
REFRESH-INTERVAL;VALUE=DURATION:PT1H
X-Robots-Tag:noindex
X-PUBLISHED-TTL:PT1H
BEGIN:VTIMEZONE
TZID:America/Toronto
BEGIN:DAYLIGHT
TZOFFSETFROM:-0500
TZOFFSETTO:-0400
TZNAME:EDT
DTSTART:20240310T070000
END:DAYLIGHT
BEGIN:STANDARD
TZOFFSETFROM:-0400
TZOFFSETTO:-0500
TZNAME:EST
DTSTART:20241103T060000
END:STANDARD
BEGIN:DAYLIGHT
TZOFFSETFROM:-0500
TZOFFSETTO:-0400
TZNAME:EDT
DTSTART:20250309T070000
END:DAYLIGHT
BEGIN:STANDARD
TZOFFSETFROM:-0400
TZOFFSETTO:-0500
TZNAME:EST
DTSTART:20251102T060000
END:STANDARD
BEGIN:DAYLIGHT
TZOFFSETFROM:-0500
TZOFFSETTO:-0400
TZNAME:EDT
DTSTART:20260308T070000
END:DAYLIGHT
BEGIN:STANDARD
TZOFFSETFROM:-0400
TZOFFSETTO:-0500
TZNAME:EST
DTSTART:20261101T060000
END:STANDARD
END:VTIMEZONE
BEGIN:VEVENT
DTSTART;TZID=America/Toronto:20250819T100000
DTEND;TZID=America/Toronto:20250819T110000
DTSTAMP:20260424T022434
CREATED:20250808T205511Z
LAST-MODIFIED:20250808T205511Z
UID:3394-1755597600-1755601200@fleetwayfun.com
SUMMARY:Kids Play Centre CLOSED from 10:00-11:00am for Summer Camps
DESCRIPTION:Tuesday August 19th – Kids Play Centre CLOSED from 10:00-11:00am for Summer Camps
URL:https://fleetwayfun.com/event/kids-play-centre-closed-from-1000-1100am-for-summer-camps/
END:VEVENT
BEGIN:VEVENT
DTSTART;TZID=America/Toronto:20250819T123000
DTEND;TZID=America/Toronto:20250819T143000
DTSTAMP:20260424T022434
CREATED:20250808T205634Z
LAST-MODIFIED:20250808T205634Z
UID:3396-1755606600-1755613800@fleetwayfun.com
SUMMARY:Kids Play Centre CLOSED from 12:30-2:30pm for Summer Camps
DESCRIPTION:Tuesday August 19th – Kids Play Centre CLOSED from 12:30-2:30pm for Summer Camps
URL:https://fleetwayfun.com/event/kids-play-centre-closed-from-1230-230pm-for-summer-camps/
END:VEVENT
BEGIN:VEVENT
DTSTART;TZID=America/Toronto:20250819T170000
DTEND;TZID=America/Toronto:20250819T190000
DTSTAMP:20260424T022434
CREATED:20250521T223028Z
LAST-MODIFIED:20250521T223028Z
UID:3186-1755622800-1755630000@fleetwayfun.com
SUMMARY:Kids Play Centre CLOSED from 5:00 – 7:00pm for Exclusive Booking
DESCRIPTION:Tuesday August 19th – Kids Play Centre CLOSED from 5:00 – 7:00pm for Exclusive Booking
URL:https://fleetwayfun.com/event/kids-play-centre-closed-from-500-700pm-for-exclusive-booking-97/
END:VEVENT
END:VCALENDAR